BEGIN:VCALENDAR
VERSION:2.0
PRODID:-//Serrano Park - ECPv6.15.20//NONSGML v1.0//EN
CALSCALE:GREGORIAN
METHOD:PUBLISH
X-WR-CALNAME:Serrano Park
X-ORIGINAL-URL:https://serranopark.net
X-WR-CALDESC:Events for Serrano Park
REFRESH-INTERVAL;VALUE=DURATION:PT1H
X-Robots-Tag:noindex
X-PUBLISHED-TTL:PT1H
BEGIN:VTIMEZONE
TZID:America/Los_Angeles
BEGIN:DAYLIGHT
TZOFFSETFROM:-0800
TZOFFSETTO:-0700
TZNAME:PDT
DTSTART:20240310T100000
END:DAYLIGHT
BEGIN:STANDARD
TZOFFSETFROM:-0700
TZOFFSETTO:-0800
TZNAME:PST
DTSTART:20241103T090000
END:STANDARD
BEGIN:DAYLIGHT
TZOFFSETFROM:-0800
TZOFFSETTO:-0700
TZNAME:PDT
DTSTART:20250309T100000
END:DAYLIGHT
BEGIN:STANDARD
TZOFFSETFROM:-0700
TZOFFSETTO:-0800
TZNAME:PST
DTSTART:20251102T090000
END:STANDARD
BEGIN:DAYLIGHT
TZOFFSETFROM:-0800
TZOFFSETTO:-0700
TZNAME:PDT
DTSTART:20260308T100000
END:DAYLIGHT
BEGIN:STANDARD
TZOFFSETFROM:-0700
TZOFFSETTO:-0800
TZNAME:PST
DTSTART:20261101T090000
END:STANDARD
END:VTIMEZONE
BEGIN:VEVENT
DTSTART;TZID=America/Los_Angeles:20250710T163000
DTEND;TZID=America/Los_Angeles:20250710T183000
DTSTAMP:20260422T020607
CREATED:20250702T210204Z
LAST-MODIFIED:20250702T210204Z
UID:10000394-1752165000-1752172200@serranopark.net
SUMMARY:Ice Cream Social
DESCRIPTION:Who’s ready for a cool treat and some sweet neighbor time? Join us for the Serrano Park Ice Cream Social!  \nThanks to Harvest Landscape and your Serrano Park Social Committee\, an ice cream truck will be here to kick off summer with FREE treats for our community. \nThis is a first-come\, first-served event\, so come early before the ice cream melts away! \nBring the family\, say hi to your neighbors\, and let’s make a sweet summer memory together!
URL:https://serranopark.net/event/ice-cream-social/
LOCATION:Abeto Park\, 25141 Paseo Abeto\, Lake Forest\, CA\, 92630\, United States
ATTACH;FMTTYPE=image/png:https://serranopark.net/wp-content/uploads/2025/07/Untitled-1.png
END:VEVENT
END:VCALENDAR