BEGIN:VCALENDAR
VERSION:2.0
PRODID:-//Serrano Park - ECPv6.15.20//NONSGML v1.0//EN
CALSCALE:GREGORIAN
METHOD:PUBLISH
X-ORIGINAL-URL:https://serranopark.net
X-WR-CALDESC:Events for Serrano Park
REFRESH-INTERVAL;VALUE=DURATION:PT1H
X-Robots-Tag:noindex
X-PUBLISHED-TTL:PT1H
BEGIN:VTIMEZONE
TZID:America/Los_Angeles
BEGIN:DAYLIGHT
TZOFFSETFROM:-0800
TZOFFSETTO:-0700
TZNAME:PDT
DTSTART:20240310T100000
END:DAYLIGHT
BEGIN:STANDARD
TZOFFSETFROM:-0700
TZOFFSETTO:-0800
TZNAME:PST
DTSTART:20241103T090000
END:STANDARD
BEGIN:DAYLIGHT
TZOFFSETFROM:-0800
TZOFFSETTO:-0700
TZNAME:PDT
DTSTART:20250309T100000
END:DAYLIGHT
BEGIN:STANDARD
TZOFFSETFROM:-0700
TZOFFSETTO:-0800
TZNAME:PST
DTSTART:20251102T090000
END:STANDARD
BEGIN:DAYLIGHT
TZOFFSETFROM:-0800
TZOFFSETTO:-0700
TZNAME:PDT
DTSTART:20260308T100000
END:DAYLIGHT
BEGIN:STANDARD
TZOFFSETFROM:-0700
TZOFFSETTO:-0800
TZNAME:PST
DTSTART:20261101T090000
END:STANDARD
END:VTIMEZONE
BEGIN:VEVENT
DTSTART;TZID=America/Los_Angeles:20251113T190000
DTEND;TZID=America/Los_Angeles:20251113T210000
DTSTAMP:20260420T002546
CREATED:20250819T184507Z
LAST-MODIFIED:20250819T184507Z
UID:10000402-1763060400-1763067600@serranopark.net
SUMMARY:Book Club
DESCRIPTION:📚✨ Serrano Park Book Club ✨🍷Next Meeting: November 13th | 7–9 PM | Clubhouse \nDo you love books\, neighbors\, and a good glass of wine with snacks? Then this is the club for you! The Serrano Park Book Club meets every other month on the 2nd Thursday (unless otherwise updated) for an evening of lively discussion\, laughter\, and community connection. \n📖 Join our Facebook group to stay part of the conversation and share your love of reading.📲 Active members can also join our text thread for updates\, reminders\, and a little extra bookish fun. \nWhether you’d like to host a meeting\, help pick our next read\, or simply come to sip and chat\, all are welcome — and don’t forget to bring a friend! 🍷🧀 \n✨ Come for the books\, stay for the company. ✨ \n– Hosted by Tami Nowzaree
URL:https://serranopark.net/event/book-club-3/
ORGANIZER;CN="Tami Nowzaree":MAILTO:tnowzaree@yahoo.com
END:VEVENT
BEGIN:VEVENT
DTSTART;TZID=America/Los_Angeles:20250910T190000
DTEND;TZID=America/Los_Angeles:20250910T220000
DTSTAMP:20260420T002546
CREATED:20250712T000122Z
LAST-MODIFIED:20250819T184001Z
UID:10000395-1757530800-1757541600@serranopark.net
SUMMARY:Book Club
DESCRIPTION:Our next book club is on Wednesday\, September 10 at 7 PM at the Clubhouse! We’re reading The Missing Half by Ashleigh Flowers\, and it’s never too late to join! \nWe meet monthly from 7–9 PM (next after this is November 13). Expect cozy conversations\, yummy snacks\, drinks\, and a welcoming neighborhood vibe. \n New members get a custom Serrano Park Bookclub bookmark! \n Considering offering a kids’ meet-up during book club so parents can come—let me know if interested with a text or email! \nWe’d love to have you!
URL:https://serranopark.net/event/book-club-2/
LOCATION:Main Clubhouse\, 21180 Paseo Sombra\, Lake Forest\, CA\, 92630\, United States
CATEGORIES:Community
ATTACH;FMTTYPE=image/png:https://serranopark.net/wp-content/uploads/2025/07/Untitled.png
END:VEVENT
BEGIN:VEVENT
DTSTART;TZID=America/Los_Angeles:20250910T163000
DTEND;TZID=America/Los_Angeles:20250910T180000
DTSTAMP:20260420T002546
CREATED:20250819T180020Z
LAST-MODIFIED:20250819T182320Z
UID:10000401-1757521800-1757527200@serranopark.net
SUMMARY:Palette & Pour:Sunset Paint & Sip at OC Fish Grill
DESCRIPTION:As your local realtor who loves Serrano Park and it’s community\, I want to bring the fun to our neighbors! In collaboration with one of our very artistic neighbors with Curated Connections\, here is a FUN event for socializing and being artsy! \n🎨🍷 Palette & Pour: Sunset Paint & Sip at OC Fish Grill \nJoin us for a relaxing evening under the grapevines at OC Fish Grill in Irvine! Our Palette & Pour series offers a one-of-a-kind Sunset Paint & Sip experience — no artistic ability required! \n📅 Dates: August 27\, September 3\, September 10🕓 Time: Wednesdays\, 4:30–6:00 PM📍 Location: OC Fish Grill\, 5789 Alton Pkwy\, Irvine\, CA 92618 \n✨ $40 reservation includes all painting supplies\, step-by-step instruction\, and a reserved seat.🍷 Wine & food will be available for purchase from the exclusive Palette & Pour menu. \nFollow the link to the Website to reserve your spot! \nRelax\, sip\, and paint your way into the evening — a perfect midweek escape!
URL:https://serranopark.net/event/palette-poursunset-paint-sip-at-oc-fish-grill/2025-09-10/
LOCATION:OC Fish Grill\, 5789 Alton Pkwy\, Irvine\, CA\, 92618\, United States
ORGANIZER;CN="Tami Nowzaree":MAILTO:tnowzaree@yahoo.com
END:VEVENT
BEGIN:VEVENT
DTSTART;TZID=America/Los_Angeles:20250903T163000
DTEND;TZID=America/Los_Angeles:20250903T180000
DTSTAMP:20260420T002546
CREATED:20250819T180020Z
LAST-MODIFIED:20250819T182320Z
UID:10000400-1756917000-1756922400@serranopark.net
SUMMARY:Palette & Pour:Sunset Paint & Sip at OC Fish Grill
DESCRIPTION:As your local realtor who loves Serrano Park and it’s community\, I want to bring the fun to our neighbors! In collaboration with one of our very artistic neighbors with Curated Connections\, here is a FUN event for socializing and being artsy! \n🎨🍷 Palette & Pour: Sunset Paint & Sip at OC Fish Grill \nJoin us for a relaxing evening under the grapevines at OC Fish Grill in Irvine! Our Palette & Pour series offers a one-of-a-kind Sunset Paint & Sip experience — no artistic ability required! \n📅 Dates: August 27\, September 3\, September 10🕓 Time: Wednesdays\, 4:30–6:00 PM📍 Location: OC Fish Grill\, 5789 Alton Pkwy\, Irvine\, CA 92618 \n✨ $40 reservation includes all painting supplies\, step-by-step instruction\, and a reserved seat.🍷 Wine & food will be available for purchase from the exclusive Palette & Pour menu. \nFollow the link to the Website to reserve your spot! \nRelax\, sip\, and paint your way into the evening — a perfect midweek escape!
URL:https://serranopark.net/event/palette-poursunset-paint-sip-at-oc-fish-grill/2025-09-03/
LOCATION:OC Fish Grill\, 5789 Alton Pkwy\, Irvine\, CA\, 92618\, United States
ORGANIZER;CN="Tami Nowzaree":MAILTO:tnowzaree@yahoo.com
END:VEVENT
BEGIN:VEVENT
DTSTART;TZID=America/Los_Angeles:20250827T163000
DTEND;TZID=America/Los_Angeles:20250827T180000
DTSTAMP:20260420T002546
CREATED:20250819T180020Z
LAST-MODIFIED:20250819T182320Z
UID:10000399-1756312200-1756317600@serranopark.net
SUMMARY:Palette & Pour:Sunset Paint & Sip at OC Fish Grill
DESCRIPTION:As your local realtor who loves Serrano Park and it’s community\, I want to bring the fun to our neighbors! In collaboration with one of our very artistic neighbors with Curated Connections\, here is a FUN event for socializing and being artsy! \n🎨🍷 Palette & Pour: Sunset Paint & Sip at OC Fish Grill \nJoin us for a relaxing evening under the grapevines at OC Fish Grill in Irvine! Our Palette & Pour series offers a one-of-a-kind Sunset Paint & Sip experience — no artistic ability required! \n📅 Dates: August 27\, September 3\, September 10🕓 Time: Wednesdays\, 4:30–6:00 PM📍 Location: OC Fish Grill\, 5789 Alton Pkwy\, Irvine\, CA 92618 \n✨ $40 reservation includes all painting supplies\, step-by-step instruction\, and a reserved seat.🍷 Wine & food will be available for purchase from the exclusive Palette & Pour menu. \nFollow the link to the Website to reserve your spot! \nRelax\, sip\, and paint your way into the evening — a perfect midweek escape!
URL:https://serranopark.net/event/palette-poursunset-paint-sip-at-oc-fish-grill/2025-08-27/
LOCATION:OC Fish Grill\, 5789 Alton Pkwy\, Irvine\, CA\, 92618\, United States
ORGANIZER;CN="Tami Nowzaree":MAILTO:tnowzaree@yahoo.com
END:VEVENT
END:VCALENDAR