BEGIN:VCALENDAR
VERSION:2.0
PRODID:-//Serrano Park - ECPv6.15.20//NONSGML v1.0//EN
CALSCALE:GREGORIAN
METHOD:PUBLISH
X-ORIGINAL-URL:https://serranopark.net
X-WR-CALDESC:Events for Serrano Park
REFRESH-INTERVAL;VALUE=DURATION:PT1H
X-Robots-Tag:noindex
X-PUBLISHED-TTL:PT1H
BEGIN:VTIMEZONE
TZID:America/Los_Angeles
BEGIN:DAYLIGHT
TZOFFSETFROM:-0800
TZOFFSETTO:-0700
TZNAME:PDT
DTSTART:20260308T100000
END:DAYLIGHT
BEGIN:STANDARD
TZOFFSETFROM:-0700
TZOFFSETTO:-0800
TZNAME:PST
DTSTART:20261101T090000
END:STANDARD
BEGIN:DAYLIGHT
TZOFFSETFROM:-0800
TZOFFSETTO:-0700
TZNAME:PDT
DTSTART:20270314T100000
END:DAYLIGHT
BEGIN:STANDARD
TZOFFSETFROM:-0700
TZOFFSETTO:-0800
TZNAME:PST
DTSTART:20271107T090000
END:STANDARD
BEGIN:DAYLIGHT
TZOFFSETFROM:-0800
TZOFFSETTO:-0700
TZNAME:PDT
DTSTART:20280312T100000
END:DAYLIGHT
BEGIN:STANDARD
TZOFFSETFROM:-0700
TZOFFSETTO:-0800
TZNAME:PST
DTSTART:20281105T090000
END:STANDARD
BEGIN:DAYLIGHT
TZOFFSETFROM:-0800
TZOFFSETTO:-0700
TZNAME:PDT
DTSTART:20290311T100000
END:DAYLIGHT
BEGIN:STANDARD
TZOFFSETFROM:-0700
TZOFFSETTO:-0800
TZNAME:PST
DTSTART:20291104T090000
END:STANDARD
END:VTIMEZONE
BEGIN:VEVENT
DTSTART;TZID=America/Los_Angeles:20270503T190000
DTEND;TZID=America/Los_Angeles:20270503T210000
DTSTAMP:20260419T231204
CREATED:20250522T030213Z
LAST-MODIFIED:20250522T030213Z
UID:10000355-1809370800-1809378000@serranopark.net
SUMMARY:Architecture Committee
DESCRIPTION:Architecture monthly committee meeting.
URL:https://serranopark.net/event/architecture-committee/2027-05-03/
CATEGORIES:Community
END:VEVENT
BEGIN:VEVENT
DTSTART;TZID=America/Los_Angeles:20270506T100000
DTEND;TZID=America/Los_Angeles:20270506T120000
DTSTAMP:20260419T231204
CREATED:20250522T025956Z
LAST-MODIFIED:20250522T025956Z
UID:10000295-1809597600-1809604800@serranopark.net
SUMMARY:Landscape Committee
DESCRIPTION:
URL:https://serranopark.net/event/landscape-committee/2027-05-06/
LOCATION:Main Clubhouse\, 21180 Paseo Sombra\, Lake Forest\, CA\, 92630\, United States
END:VEVENT
BEGIN:VEVENT
DTSTART;TZID=America/Los_Angeles:20270520T183000
DTEND;TZID=America/Los_Angeles:20270520T183000
DTSTAMP:20260419T231204
CREATED:20260116T164904Z
LAST-MODIFIED:20260116T165242Z
UID:10000419-1810837800-1810837800@serranopark.net
SUMMARY:HOA Board Meeting
DESCRIPTION:
URL:https://serranopark.net/event/hoa-board-meeting-3/2027-05-20/
LOCATION:Main Clubhouse\, 21180 Paseo Sombra\, Lake Forest\, CA\, 92630\, United States
END:VEVENT
BEGIN:VEVENT
DTSTART;TZID=America/Los_Angeles:20270603T100000
DTEND;TZID=America/Los_Angeles:20270603T120000
DTSTAMP:20260419T231204
CREATED:20250522T025956Z
LAST-MODIFIED:20250522T025956Z
UID:10000296-1812016800-1812024000@serranopark.net
SUMMARY:Landscape Committee
DESCRIPTION:
URL:https://serranopark.net/event/landscape-committee/2027-06-03/
LOCATION:Main Clubhouse\, 21180 Paseo Sombra\, Lake Forest\, CA\, 92630\, United States
END:VEVENT
BEGIN:VEVENT
DTSTART;TZID=America/Los_Angeles:20270607T190000
DTEND;TZID=America/Los_Angeles:20270607T210000
DTSTAMP:20260419T231205
CREATED:20250522T030213Z
LAST-MODIFIED:20250522T030213Z
UID:10000356-1812394800-1812402000@serranopark.net
SUMMARY:Architecture Committee
DESCRIPTION:Architecture monthly committee meeting.
URL:https://serranopark.net/event/architecture-committee/2027-06-07/
CATEGORIES:Community
END:VEVENT
BEGIN:VEVENT
DTSTART;TZID=America/Los_Angeles:20270617T183000
DTEND;TZID=America/Los_Angeles:20270617T183000
DTSTAMP:20260419T231205
CREATED:20260116T164904Z
LAST-MODIFIED:20260116T165242Z
UID:10000420-1813257000-1813257000@serranopark.net
SUMMARY:HOA Board Meeting
DESCRIPTION:
URL:https://serranopark.net/event/hoa-board-meeting-3/2027-06-17/
LOCATION:Main Clubhouse\, 21180 Paseo Sombra\, Lake Forest\, CA\, 92630\, United States
END:VEVENT
BEGIN:VEVENT
DTSTART;TZID=America/Los_Angeles:20270701T100000
DTEND;TZID=America/Los_Angeles:20270701T120000
DTSTAMP:20260419T231205
CREATED:20250522T025956Z
LAST-MODIFIED:20250522T025956Z
UID:10000297-1814436000-1814443200@serranopark.net
SUMMARY:Landscape Committee
DESCRIPTION:
URL:https://serranopark.net/event/landscape-committee/2027-07-01/
LOCATION:Main Clubhouse\, 21180 Paseo Sombra\, Lake Forest\, CA\, 92630\, United States
END:VEVENT
BEGIN:VEVENT
DTSTART;TZID=America/Los_Angeles:20270705T190000
DTEND;TZID=America/Los_Angeles:20270705T210000
DTSTAMP:20260419T231205
CREATED:20250522T030213Z
LAST-MODIFIED:20250522T030213Z
UID:10000357-1814814000-1814821200@serranopark.net
SUMMARY:Architecture Committee
DESCRIPTION:Architecture monthly committee meeting.
URL:https://serranopark.net/event/architecture-committee/2027-07-05/
CATEGORIES:Community
END:VEVENT
BEGIN:VEVENT
DTSTART;TZID=America/Los_Angeles:20270715T183000
DTEND;TZID=America/Los_Angeles:20270715T183000
DTSTAMP:20260419T231205
CREATED:20260116T164904Z
LAST-MODIFIED:20260116T165242Z
UID:10000421-1815676200-1815676200@serranopark.net
SUMMARY:HOA Board Meeting
DESCRIPTION:
URL:https://serranopark.net/event/hoa-board-meeting-3/2027-07-15/
LOCATION:Main Clubhouse\, 21180 Paseo Sombra\, Lake Forest\, CA\, 92630\, United States
END:VEVENT
BEGIN:VEVENT
DTSTART;TZID=America/Los_Angeles:20270802T190000
DTEND;TZID=America/Los_Angeles:20270802T210000
DTSTAMP:20260419T231205
CREATED:20250522T030213Z
LAST-MODIFIED:20250522T030213Z
UID:10000358-1817233200-1817240400@serranopark.net
SUMMARY:Architecture Committee
DESCRIPTION:Architecture monthly committee meeting.
URL:https://serranopark.net/event/architecture-committee/2027-08-02/
CATEGORIES:Community
END:VEVENT
BEGIN:VEVENT
DTSTART;TZID=America/Los_Angeles:20270805T100000
DTEND;TZID=America/Los_Angeles:20270805T120000
DTSTAMP:20260419T231205
CREATED:20250522T025956Z
LAST-MODIFIED:20250522T025956Z
UID:10000298-1817460000-1817467200@serranopark.net
SUMMARY:Landscape Committee
DESCRIPTION:
URL:https://serranopark.net/event/landscape-committee/2027-08-05/
LOCATION:Main Clubhouse\, 21180 Paseo Sombra\, Lake Forest\, CA\, 92630\, United States
END:VEVENT
BEGIN:VEVENT
DTSTART;TZID=America/Los_Angeles:20270819T183000
DTEND;TZID=America/Los_Angeles:20270819T183000
DTSTAMP:20260419T231205
CREATED:20260116T164904Z
LAST-MODIFIED:20260116T165242Z
UID:10000422-1818700200-1818700200@serranopark.net
SUMMARY:HOA Board Meeting
DESCRIPTION:
URL:https://serranopark.net/event/hoa-board-meeting-3/2027-08-19/
LOCATION:Main Clubhouse\, 21180 Paseo Sombra\, Lake Forest\, CA\, 92630\, United States
END:VEVENT
BEGIN:VEVENT
DTSTART;TZID=America/Los_Angeles:20270902T100000
DTEND;TZID=America/Los_Angeles:20270902T120000
DTSTAMP:20260419T231205
CREATED:20250522T025956Z
LAST-MODIFIED:20250522T025956Z
UID:10000299-1819879200-1819886400@serranopark.net
SUMMARY:Landscape Committee
DESCRIPTION:
URL:https://serranopark.net/event/landscape-committee/2027-09-02/
LOCATION:Main Clubhouse\, 21180 Paseo Sombra\, Lake Forest\, CA\, 92630\, United States
END:VEVENT
BEGIN:VEVENT
DTSTART;TZID=America/Los_Angeles:20270906T190000
DTEND;TZID=America/Los_Angeles:20270906T210000
DTSTAMP:20260419T231205
CREATED:20250522T030213Z
LAST-MODIFIED:20250522T030213Z
UID:10000359-1820257200-1820264400@serranopark.net
SUMMARY:Architecture Committee
DESCRIPTION:Architecture monthly committee meeting.
URL:https://serranopark.net/event/architecture-committee/2027-09-06/
CATEGORIES:Community
END:VEVENT
BEGIN:VEVENT
DTSTART;TZID=America/Los_Angeles:20270916T183000
DTEND;TZID=America/Los_Angeles:20270916T183000
DTSTAMP:20260419T231205
CREATED:20260116T164904Z
LAST-MODIFIED:20260116T165242Z
UID:10000423-1821119400-1821119400@serranopark.net
SUMMARY:HOA Board Meeting
DESCRIPTION:
URL:https://serranopark.net/event/hoa-board-meeting-3/2027-09-16/
LOCATION:Main Clubhouse\, 21180 Paseo Sombra\, Lake Forest\, CA\, 92630\, United States
END:VEVENT
BEGIN:VEVENT
DTSTART;TZID=America/Los_Angeles:20271004T190000
DTEND;TZID=America/Los_Angeles:20271004T210000
DTSTAMP:20260419T231205
CREATED:20250522T030213Z
LAST-MODIFIED:20250522T030213Z
UID:10000360-1822676400-1822683600@serranopark.net
SUMMARY:Architecture Committee
DESCRIPTION:Architecture monthly committee meeting.
URL:https://serranopark.net/event/architecture-committee/2027-10-04/
CATEGORIES:Community
END:VEVENT
BEGIN:VEVENT
DTSTART;TZID=America/Los_Angeles:20271007T100000
DTEND;TZID=America/Los_Angeles:20271007T120000
DTSTAMP:20260419T231205
CREATED:20250522T025956Z
LAST-MODIFIED:20250522T025956Z
UID:10000300-1822903200-1822910400@serranopark.net
SUMMARY:Landscape Committee
DESCRIPTION:
URL:https://serranopark.net/event/landscape-committee/2027-10-07/
LOCATION:Main Clubhouse\, 21180 Paseo Sombra\, Lake Forest\, CA\, 92630\, United States
END:VEVENT
BEGIN:VEVENT
DTSTART;TZID=America/Los_Angeles:20271021T183000
DTEND;TZID=America/Los_Angeles:20271021T183000
DTSTAMP:20260419T231205
CREATED:20260116T164904Z
LAST-MODIFIED:20260116T165242Z
UID:10000424-1824143400-1824143400@serranopark.net
SUMMARY:HOA Board Meeting
DESCRIPTION:
URL:https://serranopark.net/event/hoa-board-meeting-3/2027-10-21/
LOCATION:Main Clubhouse\, 21180 Paseo Sombra\, Lake Forest\, CA\, 92630\, United States
END:VEVENT
BEGIN:VEVENT
DTSTART;TZID=America/Los_Angeles:20271101T190000
DTEND;TZID=America/Los_Angeles:20271101T210000
DTSTAMP:20260419T231205
CREATED:20250522T030213Z
LAST-MODIFIED:20250522T030213Z
UID:10000361-1825095600-1825102800@serranopark.net
SUMMARY:Architecture Committee
DESCRIPTION:Architecture monthly committee meeting.
URL:https://serranopark.net/event/architecture-committee/2027-11-01/
CATEGORIES:Community
END:VEVENT
BEGIN:VEVENT
DTSTART;TZID=America/Los_Angeles:20271104T100000
DTEND;TZID=America/Los_Angeles:20271104T120000
DTSTAMP:20260419T231205
CREATED:20250522T025956Z
LAST-MODIFIED:20250522T025956Z
UID:10000301-1825322400-1825329600@serranopark.net
SUMMARY:Landscape Committee
DESCRIPTION:
URL:https://serranopark.net/event/landscape-committee/2027-11-04/
LOCATION:Main Clubhouse\, 21180 Paseo Sombra\, Lake Forest\, CA\, 92630\, United States
END:VEVENT
BEGIN:VEVENT
DTSTART;TZID=America/Los_Angeles:20271118T183000
DTEND;TZID=America/Los_Angeles:20271118T183000
DTSTAMP:20260419T231205
CREATED:20260116T164904Z
LAST-MODIFIED:20260116T165242Z
UID:10000425-1826562600-1826562600@serranopark.net
SUMMARY:HOA Board Meeting
DESCRIPTION:
URL:https://serranopark.net/event/hoa-board-meeting-3/2027-11-18/
LOCATION:Main Clubhouse\, 21180 Paseo Sombra\, Lake Forest\, CA\, 92630\, United States
END:VEVENT
BEGIN:VEVENT
DTSTART;TZID=America/Los_Angeles:20271202T100000
DTEND;TZID=America/Los_Angeles:20271202T120000
DTSTAMP:20260419T231205
CREATED:20250522T025956Z
LAST-MODIFIED:20250522T025956Z
UID:10000302-1827741600-1827748800@serranopark.net
SUMMARY:Landscape Committee
DESCRIPTION:
URL:https://serranopark.net/event/landscape-committee/2027-12-02/
LOCATION:Main Clubhouse\, 21180 Paseo Sombra\, Lake Forest\, CA\, 92630\, United States
END:VEVENT
BEGIN:VEVENT
DTSTART;TZID=America/Los_Angeles:20271206T190000
DTEND;TZID=America/Los_Angeles:20271206T210000
DTSTAMP:20260419T231205
CREATED:20250522T030213Z
LAST-MODIFIED:20250522T030213Z
UID:10000362-1828119600-1828126800@serranopark.net
SUMMARY:Architecture Committee
DESCRIPTION:Architecture monthly committee meeting.
URL:https://serranopark.net/event/architecture-committee/2027-12-06/
CATEGORIES:Community
END:VEVENT
BEGIN:VEVENT
DTSTART;TZID=America/Los_Angeles:20271216T183000
DTEND;TZID=America/Los_Angeles:20271216T183000
DTSTAMP:20260419T231205
CREATED:20260116T164904Z
LAST-MODIFIED:20260116T165242Z
UID:10000426-1828981800-1828981800@serranopark.net
SUMMARY:HOA Board Meeting
DESCRIPTION:
URL:https://serranopark.net/event/hoa-board-meeting-3/2027-12-16/
LOCATION:Main Clubhouse\, 21180 Paseo Sombra\, Lake Forest\, CA\, 92630\, United States
END:VEVENT
BEGIN:VEVENT
DTSTART;TZID=America/Los_Angeles:20280103T190000
DTEND;TZID=America/Los_Angeles:20280103T210000
DTSTAMP:20260419T231205
CREATED:20250522T030213Z
LAST-MODIFIED:20250522T030213Z
UID:10000363-1830538800-1830546000@serranopark.net
SUMMARY:Architecture Committee
DESCRIPTION:Architecture monthly committee meeting.
URL:https://serranopark.net/event/architecture-committee/2028-01-03/
CATEGORIES:Community
END:VEVENT
BEGIN:VEVENT
DTSTART;TZID=America/Los_Angeles:20280106T100000
DTEND;TZID=America/Los_Angeles:20280106T120000
DTSTAMP:20260419T231205
CREATED:20250522T025956Z
LAST-MODIFIED:20250522T025956Z
UID:10000303-1830765600-1830772800@serranopark.net
SUMMARY:Landscape Committee
DESCRIPTION:
URL:https://serranopark.net/event/landscape-committee/2028-01-06/
LOCATION:Main Clubhouse\, 21180 Paseo Sombra\, Lake Forest\, CA\, 92630\, United States
END:VEVENT
BEGIN:VEVENT
DTSTART;TZID=America/Los_Angeles:20280203T100000
DTEND;TZID=America/Los_Angeles:20280203T120000
DTSTAMP:20260419T231205
CREATED:20250522T025956Z
LAST-MODIFIED:20250522T025956Z
UID:10000304-1833184800-1833192000@serranopark.net
SUMMARY:Landscape Committee
DESCRIPTION:
URL:https://serranopark.net/event/landscape-committee/2028-02-03/
LOCATION:Main Clubhouse\, 21180 Paseo Sombra\, Lake Forest\, CA\, 92630\, United States
END:VEVENT
BEGIN:VEVENT
DTSTART;TZID=America/Los_Angeles:20280207T190000
DTEND;TZID=America/Los_Angeles:20280207T210000
DTSTAMP:20260419T231205
CREATED:20250522T030213Z
LAST-MODIFIED:20250522T030213Z
UID:10000364-1833562800-1833570000@serranopark.net
SUMMARY:Architecture Committee
DESCRIPTION:Architecture monthly committee meeting.
URL:https://serranopark.net/event/architecture-committee/2028-02-07/
CATEGORIES:Community
END:VEVENT
BEGIN:VEVENT
DTSTART;TZID=America/Los_Angeles:20280302T100000
DTEND;TZID=America/Los_Angeles:20280302T120000
DTSTAMP:20260419T231205
CREATED:20250522T025956Z
LAST-MODIFIED:20250522T025956Z
UID:10000305-1835604000-1835611200@serranopark.net
SUMMARY:Landscape Committee
DESCRIPTION:
URL:https://serranopark.net/event/landscape-committee/2028-03-02/
LOCATION:Main Clubhouse\, 21180 Paseo Sombra\, Lake Forest\, CA\, 92630\, United States
END:VEVENT
BEGIN:VEVENT
DTSTART;TZID=America/Los_Angeles:20280306T190000
DTEND;TZID=America/Los_Angeles:20280306T210000
DTSTAMP:20260419T231205
CREATED:20250522T030213Z
LAST-MODIFIED:20250522T030213Z
UID:10000365-1835982000-1835989200@serranopark.net
SUMMARY:Architecture Committee
DESCRIPTION:Architecture monthly committee meeting.
URL:https://serranopark.net/event/architecture-committee/2028-03-06/
CATEGORIES:Community
END:VEVENT
END:VCALENDAR