BEGIN:VCALENDAR
VERSION:2.0
PRODID:-//Serrano Park - ECPv6.15.20//NONSGML v1.0//EN
CALSCALE:GREGORIAN
METHOD:PUBLISH
X-ORIGINAL-URL:https://serranopark.net
X-WR-CALDESC:Events for Serrano Park
REFRESH-INTERVAL;VALUE=DURATION:PT1H
X-Robots-Tag:noindex
X-PUBLISHED-TTL:PT1H
BEGIN:VTIMEZONE
TZID:America/Los_Angeles
BEGIN:DAYLIGHT
TZOFFSETFROM:-0800
TZOFFSETTO:-0700
TZNAME:PDT
DTSTART:20240310T100000
END:DAYLIGHT
BEGIN:STANDARD
TZOFFSETFROM:-0700
TZOFFSETTO:-0800
TZNAME:PST
DTSTART:20241103T090000
END:STANDARD
BEGIN:DAYLIGHT
TZOFFSETFROM:-0800
TZOFFSETTO:-0700
TZNAME:PDT
DTSTART:20250309T100000
END:DAYLIGHT
BEGIN:STANDARD
TZOFFSETFROM:-0700
TZOFFSETTO:-0800
TZNAME:PST
DTSTART:20251102T090000
END:STANDARD
BEGIN:DAYLIGHT
TZOFFSETFROM:-0800
TZOFFSETTO:-0700
TZNAME:PDT
DTSTART:20260308T100000
END:DAYLIGHT
BEGIN:STANDARD
TZOFFSETFROM:-0700
TZOFFSETTO:-0800
TZNAME:PST
DTSTART:20261101T090000
END:STANDARD
BEGIN:DAYLIGHT
TZOFFSETFROM:-0800
TZOFFSETTO:-0700
TZNAME:PDT
DTSTART:20270314T100000
END:DAYLIGHT
BEGIN:STANDARD
TZOFFSETFROM:-0700
TZOFFSETTO:-0800
TZNAME:PST
DTSTART:20271107T090000
END:STANDARD
END:VTIMEZONE
BEGIN:VEVENT
DTSTART;TZID=America/Los_Angeles:20260416T183000
DTEND;TZID=America/Los_Angeles:20260416T183000
DTSTAMP:20260419T204257
CREATED:20260116T164904Z
LAST-MODIFIED:20260116T165242Z
UID:10000406-1776364200-1776364200@serranopark.net
SUMMARY:HOA Board Meeting
DESCRIPTION:
URL:https://serranopark.net/event/hoa-board-meeting-3/2026-04-16/
LOCATION:Main Clubhouse\, 21180 Paseo Sombra\, Lake Forest\, CA\, 92630\, United States
END:VEVENT
BEGIN:VEVENT
DTSTART;TZID=America/Los_Angeles:20260406T190000
DTEND;TZID=America/Los_Angeles:20260406T210000
DTSTAMP:20260419T204257
CREATED:20250522T030213Z
LAST-MODIFIED:20250522T030213Z
UID:10000342-1775502000-1775509200@serranopark.net
SUMMARY:Architecture Committee
DESCRIPTION:Architecture monthly committee meeting.
URL:https://serranopark.net/event/architecture-committee/2026-04-06/
CATEGORIES:Community
END:VEVENT
BEGIN:VEVENT
DTSTART;TZID=America/Los_Angeles:20260402T100000
DTEND;TZID=America/Los_Angeles:20260402T120000
DTSTAMP:20260419T204257
CREATED:20250522T025956Z
LAST-MODIFIED:20250522T025956Z
UID:10000282-1775124000-1775131200@serranopark.net
SUMMARY:Landscape Committee
DESCRIPTION:
URL:https://serranopark.net/event/landscape-committee/2026-04-02/
LOCATION:Main Clubhouse\, 21180 Paseo Sombra\, Lake Forest\, CA\, 92630\, United States
END:VEVENT
BEGIN:VEVENT
DTSTART;TZID=America/Los_Angeles:20260319T183000
DTEND;TZID=America/Los_Angeles:20260319T183000
DTSTAMP:20260419T204257
CREATED:20260116T164904Z
LAST-MODIFIED:20260116T165242Z
UID:10000405-1773945000-1773945000@serranopark.net
SUMMARY:HOA Board Meeting
DESCRIPTION:
URL:https://serranopark.net/event/hoa-board-meeting-3/2026-03-19/
LOCATION:Main Clubhouse\, 21180 Paseo Sombra\, Lake Forest\, CA\, 92630\, United States
END:VEVENT
BEGIN:VEVENT
DTSTART;TZID=America/Los_Angeles:20260305T100000
DTEND;TZID=America/Los_Angeles:20260305T120000
DTSTAMP:20260419T204257
CREATED:20250522T025956Z
LAST-MODIFIED:20250522T025956Z
UID:10000281-1772704800-1772712000@serranopark.net
SUMMARY:Landscape Committee
DESCRIPTION:
URL:https://serranopark.net/event/landscape-committee/2026-03-05/
LOCATION:Main Clubhouse\, 21180 Paseo Sombra\, Lake Forest\, CA\, 92630\, United States
END:VEVENT
BEGIN:VEVENT
DTSTART;TZID=America/Los_Angeles:20260302T190000
DTEND;TZID=America/Los_Angeles:20260302T210000
DTSTAMP:20260419T204257
CREATED:20250522T030213Z
LAST-MODIFIED:20250522T030213Z
UID:10000341-1772478000-1772485200@serranopark.net
SUMMARY:Architecture Committee
DESCRIPTION:Architecture monthly committee meeting.
URL:https://serranopark.net/event/architecture-committee/2026-03-02/
CATEGORIES:Community
END:VEVENT
BEGIN:VEVENT
DTSTART;TZID=America/Los_Angeles:20260219T183000
DTEND;TZID=America/Los_Angeles:20260219T183000
DTSTAMP:20260419T204257
CREATED:20260116T164904Z
LAST-MODIFIED:20260116T165242Z
UID:10000404-1771525800-1771525800@serranopark.net
SUMMARY:HOA Board Meeting
DESCRIPTION:
URL:https://serranopark.net/event/hoa-board-meeting-3/2026-02-19/
LOCATION:Main Clubhouse\, 21180 Paseo Sombra\, Lake Forest\, CA\, 92630\, United States
END:VEVENT
BEGIN:VEVENT
DTSTART;TZID=America/Los_Angeles:20260205T100000
DTEND;TZID=America/Los_Angeles:20260205T120000
DTSTAMP:20260419T204257
CREATED:20250522T025956Z
LAST-MODIFIED:20250522T025956Z
UID:10000280-1770285600-1770292800@serranopark.net
SUMMARY:Landscape Committee
DESCRIPTION:
URL:https://serranopark.net/event/landscape-committee/2026-02-05/
LOCATION:Main Clubhouse\, 21180 Paseo Sombra\, Lake Forest\, CA\, 92630\, United States
END:VEVENT
BEGIN:VEVENT
DTSTART;TZID=America/Los_Angeles:20260202T190000
DTEND;TZID=America/Los_Angeles:20260202T210000
DTSTAMP:20260419T204257
CREATED:20250522T030213Z
LAST-MODIFIED:20250522T030213Z
UID:10000340-1770058800-1770066000@serranopark.net
SUMMARY:Architecture Committee
DESCRIPTION:Architecture monthly committee meeting.
URL:https://serranopark.net/event/architecture-committee/2026-02-02/
CATEGORIES:Community
END:VEVENT
BEGIN:VEVENT
DTSTART;TZID=America/Los_Angeles:20260115T183000
DTEND;TZID=America/Los_Angeles:20260115T183000
DTSTAMP:20260419T204257
CREATED:20260116T164904Z
LAST-MODIFIED:20260116T165242Z
UID:10000403-1768501800-1768501800@serranopark.net
SUMMARY:HOA Board Meeting
DESCRIPTION:
URL:https://serranopark.net/event/hoa-board-meeting-3/2026-01-15/
LOCATION:Main Clubhouse\, 21180 Paseo Sombra\, Lake Forest\, CA\, 92630\, United States
END:VEVENT
BEGIN:VEVENT
DTSTART;TZID=America/Los_Angeles:20260105T190000
DTEND;TZID=America/Los_Angeles:20260105T210000
DTSTAMP:20260419T204257
CREATED:20250522T030213Z
LAST-MODIFIED:20250522T030213Z
UID:10000339-1767639600-1767646800@serranopark.net
SUMMARY:Architecture Committee
DESCRIPTION:Architecture monthly committee meeting.
URL:https://serranopark.net/event/architecture-committee/2026-01-05/
CATEGORIES:Community
END:VEVENT
BEGIN:VEVENT
DTSTART;TZID=America/Los_Angeles:20260101T100000
DTEND;TZID=America/Los_Angeles:20260101T120000
DTSTAMP:20260419T204257
CREATED:20250522T025956Z
LAST-MODIFIED:20250522T025956Z
UID:10000279-1767261600-1767268800@serranopark.net
SUMMARY:Landscape Committee
DESCRIPTION:
URL:https://serranopark.net/event/landscape-committee/2026-01-01/
LOCATION:Main Clubhouse\, 21180 Paseo Sombra\, Lake Forest\, CA\, 92630\, United States
END:VEVENT
BEGIN:VEVENT
DTSTART;TZID=America/Los_Angeles:20251204T100000
DTEND;TZID=America/Los_Angeles:20251204T120000
DTSTAMP:20260419T204257
CREATED:20250522T025956Z
LAST-MODIFIED:20250522T025956Z
UID:10000278-1764842400-1764849600@serranopark.net
SUMMARY:Landscape Committee
DESCRIPTION:
URL:https://serranopark.net/event/landscape-committee/2025-12-04/
LOCATION:Main Clubhouse\, 21180 Paseo Sombra\, Lake Forest\, CA\, 92630\, United States
END:VEVENT
BEGIN:VEVENT
DTSTART;TZID=America/Los_Angeles:20251201T190000
DTEND;TZID=America/Los_Angeles:20251201T210000
DTSTAMP:20260419T204257
CREATED:20250522T030213Z
LAST-MODIFIED:20250522T030213Z
UID:10000338-1764615600-1764622800@serranopark.net
SUMMARY:Architecture Committee
DESCRIPTION:Architecture monthly committee meeting.
URL:https://serranopark.net/event/architecture-committee/2025-12-01/
CATEGORIES:Community
END:VEVENT
BEGIN:VEVENT
DTSTART;TZID=America/Los_Angeles:20251106T100000
DTEND;TZID=America/Los_Angeles:20251106T120000
DTSTAMP:20260419T204257
CREATED:20250522T025956Z
LAST-MODIFIED:20250522T025956Z
UID:10000277-1762423200-1762430400@serranopark.net
SUMMARY:Landscape Committee
DESCRIPTION:
URL:https://serranopark.net/event/landscape-committee/2025-11-06/
LOCATION:Main Clubhouse\, 21180 Paseo Sombra\, Lake Forest\, CA\, 92630\, United States
END:VEVENT
BEGIN:VEVENT
DTSTART;TZID=America/Los_Angeles:20251103T190000
DTEND;TZID=America/Los_Angeles:20251103T210000
DTSTAMP:20260419T204257
CREATED:20250522T030213Z
LAST-MODIFIED:20250522T030213Z
UID:10000337-1762196400-1762203600@serranopark.net
SUMMARY:Architecture Committee
DESCRIPTION:Architecture monthly committee meeting.
URL:https://serranopark.net/event/architecture-committee/2025-11-03/
CATEGORIES:Community
END:VEVENT
BEGIN:VEVENT
DTSTART;TZID=America/Los_Angeles:20251006T190000
DTEND;TZID=America/Los_Angeles:20251006T210000
DTSTAMP:20260419T204257
CREATED:20250522T030213Z
LAST-MODIFIED:20250522T030213Z
UID:10000336-1759777200-1759784400@serranopark.net
SUMMARY:Architecture Committee
DESCRIPTION:Architecture monthly committee meeting.
URL:https://serranopark.net/event/architecture-committee/2025-10-06/
CATEGORIES:Community
END:VEVENT
BEGIN:VEVENT
DTSTART;TZID=America/Los_Angeles:20251002T100000
DTEND;TZID=America/Los_Angeles:20251002T120000
DTSTAMP:20260419T204257
CREATED:20250522T025956Z
LAST-MODIFIED:20250522T025956Z
UID:10000276-1759399200-1759406400@serranopark.net
SUMMARY:Landscape Committee
DESCRIPTION:
URL:https://serranopark.net/event/landscape-committee/2025-10-02/
LOCATION:Main Clubhouse\, 21180 Paseo Sombra\, Lake Forest\, CA\, 92630\, United States
END:VEVENT
BEGIN:VEVENT
DTSTART;TZID=America/Los_Angeles:20250904T100000
DTEND;TZID=America/Los_Angeles:20250904T120000
DTSTAMP:20260419T204257
CREATED:20250522T025956Z
LAST-MODIFIED:20250522T025956Z
UID:10000275-1756980000-1756987200@serranopark.net
SUMMARY:Landscape Committee
DESCRIPTION:
URL:https://serranopark.net/event/landscape-committee/2025-09-04/
LOCATION:Main Clubhouse\, 21180 Paseo Sombra\, Lake Forest\, CA\, 92630\, United States
END:VEVENT
BEGIN:VEVENT
DTSTART;TZID=America/Los_Angeles:20250901T190000
DTEND;TZID=America/Los_Angeles:20250901T210000
DTSTAMP:20260419T204257
CREATED:20250522T030213Z
LAST-MODIFIED:20250522T030213Z
UID:10000335-1756753200-1756760400@serranopark.net
SUMMARY:Architecture Committee
DESCRIPTION:Architecture monthly committee meeting.
URL:https://serranopark.net/event/architecture-committee/2025-09-01/
CATEGORIES:Community
END:VEVENT
BEGIN:VEVENT
DTSTART;TZID=America/Los_Angeles:20250807T100000
DTEND;TZID=America/Los_Angeles:20250807T120000
DTSTAMP:20260419T204257
CREATED:20250522T025956Z
LAST-MODIFIED:20250522T025956Z
UID:10000274-1754560800-1754568000@serranopark.net
SUMMARY:Landscape Committee
DESCRIPTION:
URL:https://serranopark.net/event/landscape-committee/2025-08-07/
LOCATION:Main Clubhouse\, 21180 Paseo Sombra\, Lake Forest\, CA\, 92630\, United States
END:VEVENT
BEGIN:VEVENT
DTSTART;TZID=America/Los_Angeles:20250804T190000
DTEND;TZID=America/Los_Angeles:20250804T210000
DTSTAMP:20260419T204257
CREATED:20250522T030213Z
LAST-MODIFIED:20250522T030213Z
UID:10000334-1754334000-1754341200@serranopark.net
SUMMARY:Architecture Committee
DESCRIPTION:Architecture monthly committee meeting.
URL:https://serranopark.net/event/architecture-committee/2025-08-04/
CATEGORIES:Community
END:VEVENT
BEGIN:VEVENT
DTSTART;TZID=America/Los_Angeles:20250707T190000
DTEND;TZID=America/Los_Angeles:20250707T210000
DTSTAMP:20260419T204257
CREATED:20250522T030213Z
LAST-MODIFIED:20250522T030213Z
UID:10000333-1751914800-1751922000@serranopark.net
SUMMARY:Architecture Committee
DESCRIPTION:Architecture monthly committee meeting.
URL:https://serranopark.net/event/architecture-committee/2025-07-07/
CATEGORIES:Community
END:VEVENT
BEGIN:VEVENT
DTSTART;TZID=America/Los_Angeles:20250703T100000
DTEND;TZID=America/Los_Angeles:20250703T120000
DTSTAMP:20260419T204257
CREATED:20250522T025956Z
LAST-MODIFIED:20250522T025956Z
UID:10000273-1751536800-1751544000@serranopark.net
SUMMARY:Landscape Committee
DESCRIPTION:
URL:https://serranopark.net/event/landscape-committee/2025-07-03/
LOCATION:Main Clubhouse\, 21180 Paseo Sombra\, Lake Forest\, CA\, 92630\, United States
END:VEVENT
BEGIN:VEVENT
DTSTART;TZID=America/Los_Angeles:20250605T100000
DTEND;TZID=America/Los_Angeles:20250605T120000
DTSTAMP:20260419T204257
CREATED:20250522T025956Z
LAST-MODIFIED:20250522T025956Z
UID:10000272-1749117600-1749124800@serranopark.net
SUMMARY:Landscape Committee
DESCRIPTION:
URL:https://serranopark.net/event/landscape-committee/2025-06-05/
LOCATION:Main Clubhouse\, 21180 Paseo Sombra\, Lake Forest\, CA\, 92630\, United States
END:VEVENT
BEGIN:VEVENT
DTSTART;TZID=America/Los_Angeles:20250602T190000
DTEND;TZID=America/Los_Angeles:20250602T210000
DTSTAMP:20260419T204257
CREATED:20250522T030213Z
LAST-MODIFIED:20250522T030213Z
UID:10000332-1748890800-1748898000@serranopark.net
SUMMARY:Architecture Committee
DESCRIPTION:Architecture monthly committee meeting.
URL:https://serranopark.net/event/architecture-committee/2025-06-02/
CATEGORIES:Community
END:VEVENT
BEGIN:VEVENT
DTSTART;TZID=America/Los_Angeles:20250521T183000
DTEND;TZID=America/Los_Angeles:20250521T203000
DTSTAMP:20260419T204257
CREATED:20250516T034950Z
LAST-MODIFIED:20250520T165108Z
UID:10000006-1747852200-1747859400@serranopark.net
SUMMARY:HOA Special Open HOA Meeting
DESCRIPTION:The Serrano Park HOA called a Special open meeting on Wednesday\, May 21. This is a board meeting in addition to the regular scheduled meeting on Tuesday\, May 27th. \nThis meeting was called for two reasons: \n\nThe Board would like to keep the HOA meeting times to two hours. In the past\, meetings have run long because of the backlog of issues and topics that needed to be reviewed.\nThe Board needed additional time in person to work through some of the action items this month as a group in order to make decisions and unblock key initiatives from moving forward.\nPlease join us for both meetings if you have time. Or\, check back here for news and updates.
URL:https://serranopark.net/event/hoa-executive-session/
LOCATION:Main Clubhouse\, 21180 Paseo Sombra\, Lake Forest\, CA\, 92630\, United States
END:VEVENT
BEGIN:VEVENT
DTSTART;TZID=America/Los_Angeles:20250513T100000
DTEND;TZID=America/Los_Angeles:20250513T110000
DTSTAMP:20260419T204257
CREATED:20250512T152917Z
LAST-MODIFIED:20250512T153019Z
UID:10000005-1747130400-1747134000@serranopark.net
SUMMARY:Landscape Committee Meeting
DESCRIPTION:
URL:https://serranopark.net/event/landscape-committee-meeting/
LOCATION:Main Clubhouse\, 21180 Paseo Sombra\, Lake Forest\, CA\, 92630\, United States
END:VEVENT
END:VCALENDAR