BEGIN:VCALENDAR
VERSION:2.0
PRODID:-//Serrano Park - ECPv6.15.20//NONSGML v1.0//EN
CALSCALE:GREGORIAN
METHOD:PUBLISH
X-ORIGINAL-URL:https://serranopark.net
X-WR-CALDESC:Events for Serrano Park
REFRESH-INTERVAL;VALUE=DURATION:PT1H
X-Robots-Tag:noindex
X-PUBLISHED-TTL:PT1H
BEGIN:VTIMEZONE
TZID:America/Los_Angeles
BEGIN:DAYLIGHT
TZOFFSETFROM:-0800
TZOFFSETTO:-0700
TZNAME:PDT
DTSTART:20250309T100000
END:DAYLIGHT
BEGIN:STANDARD
TZOFFSETFROM:-0700
TZOFFSETTO:-0800
TZNAME:PST
DTSTART:20251102T090000
END:STANDARD
BEGIN:DAYLIGHT
TZOFFSETFROM:-0800
TZOFFSETTO:-0700
TZNAME:PDT
DTSTART:20260308T100000
END:DAYLIGHT
BEGIN:STANDARD
TZOFFSETFROM:-0700
TZOFFSETTO:-0800
TZNAME:PST
DTSTART:20261101T090000
END:STANDARD
BEGIN:DAYLIGHT
TZOFFSETFROM:-0800
TZOFFSETTO:-0700
TZNAME:PDT
DTSTART:20270314T100000
END:DAYLIGHT
BEGIN:STANDARD
TZOFFSETFROM:-0700
TZOFFSETTO:-0800
TZNAME:PST
DTSTART:20271107T090000
END:STANDARD
END:VTIMEZONE
BEGIN:VEVENT
DTSTART;TZID=America/Los_Angeles:20260702T100000
DTEND;TZID=America/Los_Angeles:20260702T120000
DTSTAMP:20260420T001229
CREATED:20250522T025956Z
LAST-MODIFIED:20250522T025956Z
UID:10000285-1782986400-1782993600@serranopark.net
SUMMARY:Landscape Committee
DESCRIPTION:
URL:https://serranopark.net/event/landscape-committee/2026-07-02/
LOCATION:Main Clubhouse\, 21180 Paseo Sombra\, Lake Forest\, CA\, 92630\, United States
END:VEVENT
END:VCALENDAR