BEGIN:VCALENDAR
VERSION:2.0
PRODID:-//Serrano Park - ECPv6.15.20//NONSGML v1.0//EN
CALSCALE:GREGORIAN
METHOD:PUBLISH
X-ORIGINAL-URL:https://serranopark.net
X-WR-CALDESC:Events for Serrano Park
REFRESH-INTERVAL;VALUE=DURATION:PT1H
X-Robots-Tag:noindex
X-PUBLISHED-TTL:PT1H
BEGIN:VTIMEZONE
TZID:America/Los_Angeles
BEGIN:DAYLIGHT
TZOFFSETFROM:-0800
TZOFFSETTO:-0700
TZNAME:PDT
DTSTART:20260308T100000
END:DAYLIGHT
BEGIN:STANDARD
TZOFFSETFROM:-0700
TZOFFSETTO:-0800
TZNAME:PST
DTSTART:20261101T090000
END:STANDARD
BEGIN:DAYLIGHT
TZOFFSETFROM:-0800
TZOFFSETTO:-0700
TZNAME:PDT
DTSTART:20270314T100000
END:DAYLIGHT
BEGIN:STANDARD
TZOFFSETFROM:-0700
TZOFFSETTO:-0800
TZNAME:PST
DTSTART:20271107T090000
END:STANDARD
BEGIN:DAYLIGHT
TZOFFSETFROM:-0800
TZOFFSETTO:-0700
TZNAME:PDT
DTSTART:20280312T100000
END:DAYLIGHT
BEGIN:STANDARD
TZOFFSETFROM:-0700
TZOFFSETTO:-0800
TZNAME:PST
DTSTART:20281105T090000
END:STANDARD
BEGIN:DAYLIGHT
TZOFFSETFROM:-0800
TZOFFSETTO:-0700
TZNAME:PDT
DTSTART:20290311T100000
END:DAYLIGHT
BEGIN:STANDARD
TZOFFSETFROM:-0700
TZOFFSETTO:-0800
TZNAME:PST
DTSTART:20291104T090000
END:STANDARD
BEGIN:DAYLIGHT
TZOFFSETFROM:-0800
TZOFFSETTO:-0700
TZNAME:PDT
DTSTART:20300310T100000
END:DAYLIGHT
BEGIN:STANDARD
TZOFFSETFROM:-0700
TZOFFSETTO:-0800
TZNAME:PST
DTSTART:20301103T090000
END:STANDARD
END:VTIMEZONE
BEGIN:VEVENT
DTSTART;TZID=America/Los_Angeles:20271101T190000
DTEND;TZID=America/Los_Angeles:20271101T210000
DTSTAMP:20260419T225919
CREATED:20250522T030213Z
LAST-MODIFIED:20250522T030213Z
UID:10000361-1825095600-1825102800@serranopark.net
SUMMARY:Architecture Committee
DESCRIPTION:Architecture monthly committee meeting.
URL:https://serranopark.net/event/architecture-committee/2027-11-01/
CATEGORIES:Community
END:VEVENT
BEGIN:VEVENT
DTSTART;TZID=America/Los_Angeles:20271104T100000
DTEND;TZID=America/Los_Angeles:20271104T120000
DTSTAMP:20260419T225919
CREATED:20250522T025956Z
LAST-MODIFIED:20250522T025956Z
UID:10000301-1825322400-1825329600@serranopark.net
SUMMARY:Landscape Committee
DESCRIPTION:
URL:https://serranopark.net/event/landscape-committee/2027-11-04/
LOCATION:Main Clubhouse\, 21180 Paseo Sombra\, Lake Forest\, CA\, 92630\, United States
END:VEVENT
BEGIN:VEVENT
DTSTART;TZID=America/Los_Angeles:20271202T100000
DTEND;TZID=America/Los_Angeles:20271202T120000
DTSTAMP:20260419T225919
CREATED:20250522T025956Z
LAST-MODIFIED:20250522T025956Z
UID:10000302-1827741600-1827748800@serranopark.net
SUMMARY:Landscape Committee
DESCRIPTION:
URL:https://serranopark.net/event/landscape-committee/2027-12-02/
LOCATION:Main Clubhouse\, 21180 Paseo Sombra\, Lake Forest\, CA\, 92630\, United States
END:VEVENT
BEGIN:VEVENT
DTSTART;TZID=America/Los_Angeles:20271206T190000
DTEND;TZID=America/Los_Angeles:20271206T210000
DTSTAMP:20260419T225919
CREATED:20250522T030213Z
LAST-MODIFIED:20250522T030213Z
UID:10000362-1828119600-1828126800@serranopark.net
SUMMARY:Architecture Committee
DESCRIPTION:Architecture monthly committee meeting.
URL:https://serranopark.net/event/architecture-committee/2027-12-06/
CATEGORIES:Community
END:VEVENT
BEGIN:VEVENT
DTSTART;TZID=America/Los_Angeles:20280103T190000
DTEND;TZID=America/Los_Angeles:20280103T210000
DTSTAMP:20260419T225919
CREATED:20250522T030213Z
LAST-MODIFIED:20250522T030213Z
UID:10000363-1830538800-1830546000@serranopark.net
SUMMARY:Architecture Committee
DESCRIPTION:Architecture monthly committee meeting.
URL:https://serranopark.net/event/architecture-committee/2028-01-03/
CATEGORIES:Community
END:VEVENT
BEGIN:VEVENT
DTSTART;TZID=America/Los_Angeles:20280106T100000
DTEND;TZID=America/Los_Angeles:20280106T120000
DTSTAMP:20260419T225919
CREATED:20250522T025956Z
LAST-MODIFIED:20250522T025956Z
UID:10000303-1830765600-1830772800@serranopark.net
SUMMARY:Landscape Committee
DESCRIPTION:
URL:https://serranopark.net/event/landscape-committee/2028-01-06/
LOCATION:Main Clubhouse\, 21180 Paseo Sombra\, Lake Forest\, CA\, 92630\, United States
END:VEVENT
BEGIN:VEVENT
DTSTART;TZID=America/Los_Angeles:20280203T100000
DTEND;TZID=America/Los_Angeles:20280203T120000
DTSTAMP:20260419T225919
CREATED:20250522T025956Z
LAST-MODIFIED:20250522T025956Z
UID:10000304-1833184800-1833192000@serranopark.net
SUMMARY:Landscape Committee
DESCRIPTION:
URL:https://serranopark.net/event/landscape-committee/2028-02-03/
LOCATION:Main Clubhouse\, 21180 Paseo Sombra\, Lake Forest\, CA\, 92630\, United States
END:VEVENT
BEGIN:VEVENT
DTSTART;TZID=America/Los_Angeles:20280207T190000
DTEND;TZID=America/Los_Angeles:20280207T210000
DTSTAMP:20260419T225919
CREATED:20250522T030213Z
LAST-MODIFIED:20250522T030213Z
UID:10000364-1833562800-1833570000@serranopark.net
SUMMARY:Architecture Committee
DESCRIPTION:Architecture monthly committee meeting.
URL:https://serranopark.net/event/architecture-committee/2028-02-07/
CATEGORIES:Community
END:VEVENT
BEGIN:VEVENT
DTSTART;TZID=America/Los_Angeles:20280302T100000
DTEND;TZID=America/Los_Angeles:20280302T120000
DTSTAMP:20260419T225919
CREATED:20250522T025956Z
LAST-MODIFIED:20250522T025956Z
UID:10000305-1835604000-1835611200@serranopark.net
SUMMARY:Landscape Committee
DESCRIPTION:
URL:https://serranopark.net/event/landscape-committee/2028-03-02/
LOCATION:Main Clubhouse\, 21180 Paseo Sombra\, Lake Forest\, CA\, 92630\, United States
END:VEVENT
BEGIN:VEVENT
DTSTART;TZID=America/Los_Angeles:20280306T190000
DTEND;TZID=America/Los_Angeles:20280306T210000
DTSTAMP:20260419T225919
CREATED:20250522T030213Z
LAST-MODIFIED:20250522T030213Z
UID:10000365-1835982000-1835989200@serranopark.net
SUMMARY:Architecture Committee
DESCRIPTION:Architecture monthly committee meeting.
URL:https://serranopark.net/event/architecture-committee/2028-03-06/
CATEGORIES:Community
END:VEVENT
BEGIN:VEVENT
DTSTART;TZID=America/Los_Angeles:20280403T190000
DTEND;TZID=America/Los_Angeles:20280403T210000
DTSTAMP:20260419T225919
CREATED:20250522T030213Z
LAST-MODIFIED:20250522T030213Z
UID:10000366-1838401200-1838408400@serranopark.net
SUMMARY:Architecture Committee
DESCRIPTION:Architecture monthly committee meeting.
URL:https://serranopark.net/event/architecture-committee/2028-04-03/
CATEGORIES:Community
END:VEVENT
BEGIN:VEVENT
DTSTART;TZID=America/Los_Angeles:20280406T100000
DTEND;TZID=America/Los_Angeles:20280406T120000
DTSTAMP:20260419T225919
CREATED:20250522T025956Z
LAST-MODIFIED:20250522T025956Z
UID:10000306-1838628000-1838635200@serranopark.net
SUMMARY:Landscape Committee
DESCRIPTION:
URL:https://serranopark.net/event/landscape-committee/2028-04-06/
LOCATION:Main Clubhouse\, 21180 Paseo Sombra\, Lake Forest\, CA\, 92630\, United States
END:VEVENT
BEGIN:VEVENT
DTSTART;TZID=America/Los_Angeles:20280501T190000
DTEND;TZID=America/Los_Angeles:20280501T210000
DTSTAMP:20260419T225919
CREATED:20250522T030213Z
LAST-MODIFIED:20250522T030213Z
UID:10000367-1840820400-1840827600@serranopark.net
SUMMARY:Architecture Committee
DESCRIPTION:Architecture monthly committee meeting.
URL:https://serranopark.net/event/architecture-committee/2028-05-01/
CATEGORIES:Community
END:VEVENT
BEGIN:VEVENT
DTSTART;TZID=America/Los_Angeles:20280504T100000
DTEND;TZID=America/Los_Angeles:20280504T120000
DTSTAMP:20260419T225919
CREATED:20250522T025956Z
LAST-MODIFIED:20250522T025956Z
UID:10000307-1841047200-1841054400@serranopark.net
SUMMARY:Landscape Committee
DESCRIPTION:
URL:https://serranopark.net/event/landscape-committee/2028-05-04/
LOCATION:Main Clubhouse\, 21180 Paseo Sombra\, Lake Forest\, CA\, 92630\, United States
END:VEVENT
BEGIN:VEVENT
DTSTART;TZID=America/Los_Angeles:20280601T100000
DTEND;TZID=America/Los_Angeles:20280601T120000
DTSTAMP:20260419T225919
CREATED:20250522T025956Z
LAST-MODIFIED:20250522T025956Z
UID:10000308-1843466400-1843473600@serranopark.net
SUMMARY:Landscape Committee
DESCRIPTION:
URL:https://serranopark.net/event/landscape-committee/2028-06-01/
LOCATION:Main Clubhouse\, 21180 Paseo Sombra\, Lake Forest\, CA\, 92630\, United States
END:VEVENT
BEGIN:VEVENT
DTSTART;TZID=America/Los_Angeles:20280605T190000
DTEND;TZID=America/Los_Angeles:20280605T210000
DTSTAMP:20260419T225919
CREATED:20250522T030213Z
LAST-MODIFIED:20250522T030213Z
UID:10000368-1843844400-1843851600@serranopark.net
SUMMARY:Architecture Committee
DESCRIPTION:Architecture monthly committee meeting.
URL:https://serranopark.net/event/architecture-committee/2028-06-05/
CATEGORIES:Community
END:VEVENT
BEGIN:VEVENT
DTSTART;TZID=America/Los_Angeles:20280703T190000
DTEND;TZID=America/Los_Angeles:20280703T210000
DTSTAMP:20260419T225919
CREATED:20250522T030213Z
LAST-MODIFIED:20250522T030213Z
UID:10000369-1846263600-1846270800@serranopark.net
SUMMARY:Architecture Committee
DESCRIPTION:Architecture monthly committee meeting.
URL:https://serranopark.net/event/architecture-committee/2028-07-03/
CATEGORIES:Community
END:VEVENT
BEGIN:VEVENT
DTSTART;TZID=America/Los_Angeles:20280706T100000
DTEND;TZID=America/Los_Angeles:20280706T120000
DTSTAMP:20260419T225919
CREATED:20250522T025956Z
LAST-MODIFIED:20250522T025956Z
UID:10000309-1846490400-1846497600@serranopark.net
SUMMARY:Landscape Committee
DESCRIPTION:
URL:https://serranopark.net/event/landscape-committee/2028-07-06/
LOCATION:Main Clubhouse\, 21180 Paseo Sombra\, Lake Forest\, CA\, 92630\, United States
END:VEVENT
BEGIN:VEVENT
DTSTART;TZID=America/Los_Angeles:20280803T100000
DTEND;TZID=America/Los_Angeles:20280803T120000
DTSTAMP:20260419T225919
CREATED:20250522T025956Z
LAST-MODIFIED:20250522T025956Z
UID:10000310-1848909600-1848916800@serranopark.net
SUMMARY:Landscape Committee
DESCRIPTION:
URL:https://serranopark.net/event/landscape-committee/2028-08-03/
LOCATION:Main Clubhouse\, 21180 Paseo Sombra\, Lake Forest\, CA\, 92630\, United States
END:VEVENT
BEGIN:VEVENT
DTSTART;TZID=America/Los_Angeles:20280807T190000
DTEND;TZID=America/Los_Angeles:20280807T210000
DTSTAMP:20260419T225919
CREATED:20250522T030213Z
LAST-MODIFIED:20250522T030213Z
UID:10000370-1849287600-1849294800@serranopark.net
SUMMARY:Architecture Committee
DESCRIPTION:Architecture monthly committee meeting.
URL:https://serranopark.net/event/architecture-committee/2028-08-07/
CATEGORIES:Community
END:VEVENT
BEGIN:VEVENT
DTSTART;TZID=America/Los_Angeles:20280904T190000
DTEND;TZID=America/Los_Angeles:20280904T210000
DTSTAMP:20260419T225919
CREATED:20250522T030213Z
LAST-MODIFIED:20250522T030213Z
UID:10000371-1851706800-1851714000@serranopark.net
SUMMARY:Architecture Committee
DESCRIPTION:Architecture monthly committee meeting.
URL:https://serranopark.net/event/architecture-committee/2028-09-04/
CATEGORIES:Community
END:VEVENT
BEGIN:VEVENT
DTSTART;TZID=America/Los_Angeles:20280907T100000
DTEND;TZID=America/Los_Angeles:20280907T120000
DTSTAMP:20260419T225920
CREATED:20250522T025956Z
LAST-MODIFIED:20250522T025956Z
UID:10000311-1851933600-1851940800@serranopark.net
SUMMARY:Landscape Committee
DESCRIPTION:
URL:https://serranopark.net/event/landscape-committee/2028-09-07/
LOCATION:Main Clubhouse\, 21180 Paseo Sombra\, Lake Forest\, CA\, 92630\, United States
END:VEVENT
BEGIN:VEVENT
DTSTART;TZID=America/Los_Angeles:20281002T190000
DTEND;TZID=America/Los_Angeles:20281002T210000
DTSTAMP:20260419T225920
CREATED:20250522T030213Z
LAST-MODIFIED:20250522T030213Z
UID:10000372-1854126000-1854133200@serranopark.net
SUMMARY:Architecture Committee
DESCRIPTION:Architecture monthly committee meeting.
URL:https://serranopark.net/event/architecture-committee/2028-10-02/
CATEGORIES:Community
END:VEVENT
BEGIN:VEVENT
DTSTART;TZID=America/Los_Angeles:20281005T100000
DTEND;TZID=America/Los_Angeles:20281005T120000
DTSTAMP:20260419T225920
CREATED:20250522T025956Z
LAST-MODIFIED:20250522T025956Z
UID:10000312-1854352800-1854360000@serranopark.net
SUMMARY:Landscape Committee
DESCRIPTION:
URL:https://serranopark.net/event/landscape-committee/2028-10-05/
LOCATION:Main Clubhouse\, 21180 Paseo Sombra\, Lake Forest\, CA\, 92630\, United States
END:VEVENT
BEGIN:VEVENT
DTSTART;TZID=America/Los_Angeles:20281102T100000
DTEND;TZID=America/Los_Angeles:20281102T120000
DTSTAMP:20260419T225920
CREATED:20250522T025956Z
LAST-MODIFIED:20250522T025956Z
UID:10000313-1856772000-1856779200@serranopark.net
SUMMARY:Landscape Committee
DESCRIPTION:
URL:https://serranopark.net/event/landscape-committee/2028-11-02/
LOCATION:Main Clubhouse\, 21180 Paseo Sombra\, Lake Forest\, CA\, 92630\, United States
END:VEVENT
BEGIN:VEVENT
DTSTART;TZID=America/Los_Angeles:20281106T190000
DTEND;TZID=America/Los_Angeles:20281106T210000
DTSTAMP:20260419T225920
CREATED:20250522T030213Z
LAST-MODIFIED:20250522T030213Z
UID:10000373-1857150000-1857157200@serranopark.net
SUMMARY:Architecture Committee
DESCRIPTION:Architecture monthly committee meeting.
URL:https://serranopark.net/event/architecture-committee/2028-11-06/
CATEGORIES:Community
END:VEVENT
BEGIN:VEVENT
DTSTART;TZID=America/Los_Angeles:20281204T190000
DTEND;TZID=America/Los_Angeles:20281204T210000
DTSTAMP:20260419T225920
CREATED:20250522T030213Z
LAST-MODIFIED:20250522T030213Z
UID:10000374-1859569200-1859576400@serranopark.net
SUMMARY:Architecture Committee
DESCRIPTION:Architecture monthly committee meeting.
URL:https://serranopark.net/event/architecture-committee/2028-12-04/
CATEGORIES:Community
END:VEVENT
BEGIN:VEVENT
DTSTART;TZID=America/Los_Angeles:20281207T100000
DTEND;TZID=America/Los_Angeles:20281207T120000
DTSTAMP:20260419T225920
CREATED:20250522T025956Z
LAST-MODIFIED:20250522T025956Z
UID:10000314-1859796000-1859803200@serranopark.net
SUMMARY:Landscape Committee
DESCRIPTION:
URL:https://serranopark.net/event/landscape-committee/2028-12-07/
LOCATION:Main Clubhouse\, 21180 Paseo Sombra\, Lake Forest\, CA\, 92630\, United States
END:VEVENT
BEGIN:VEVENT
DTSTART;TZID=America/Los_Angeles:20290101T190000
DTEND;TZID=America/Los_Angeles:20290101T210000
DTSTAMP:20260419T225920
CREATED:20250522T030213Z
LAST-MODIFIED:20250522T030213Z
UID:10000375-1861988400-1861995600@serranopark.net
SUMMARY:Architecture Committee
DESCRIPTION:Architecture monthly committee meeting.
URL:https://serranopark.net/event/architecture-committee/2029-01-01/
CATEGORIES:Community
END:VEVENT
BEGIN:VEVENT
DTSTART;TZID=America/Los_Angeles:20290104T100000
DTEND;TZID=America/Los_Angeles:20290104T120000
DTSTAMP:20260419T225920
CREATED:20250522T025956Z
LAST-MODIFIED:20250522T025956Z
UID:10000315-1862215200-1862222400@serranopark.net
SUMMARY:Landscape Committee
DESCRIPTION:
URL:https://serranopark.net/event/landscape-committee/2029-01-04/
LOCATION:Main Clubhouse\, 21180 Paseo Sombra\, Lake Forest\, CA\, 92630\, United States
END:VEVENT
END:VCALENDAR