BEGIN:VCALENDAR
VERSION:2.0
PRODID:-//Serrano Park - ECPv6.15.20//NONSGML v1.0//EN
CALSCALE:GREGORIAN
METHOD:PUBLISH
X-ORIGINAL-URL:https://serranopark.net
X-WR-CALDESC:Events for Serrano Park
REFRESH-INTERVAL;VALUE=DURATION:PT1H
X-Robots-Tag:noindex
X-PUBLISHED-TTL:PT1H
BEGIN:VTIMEZONE
TZID:America/Los_Angeles
BEGIN:DAYLIGHT
TZOFFSETFROM:-0800
TZOFFSETTO:-0700
TZNAME:PDT
DTSTART:20260308T100000
END:DAYLIGHT
BEGIN:STANDARD
TZOFFSETFROM:-0700
TZOFFSETTO:-0800
TZNAME:PST
DTSTART:20261101T090000
END:STANDARD
BEGIN:DAYLIGHT
TZOFFSETFROM:-0800
TZOFFSETTO:-0700
TZNAME:PDT
DTSTART:20270314T100000
END:DAYLIGHT
BEGIN:STANDARD
TZOFFSETFROM:-0700
TZOFFSETTO:-0800
TZNAME:PST
DTSTART:20271107T090000
END:STANDARD
BEGIN:DAYLIGHT
TZOFFSETFROM:-0800
TZOFFSETTO:-0700
TZNAME:PDT
DTSTART:20280312T100000
END:DAYLIGHT
BEGIN:STANDARD
TZOFFSETFROM:-0700
TZOFFSETTO:-0800
TZNAME:PST
DTSTART:20281105T090000
END:STANDARD
END:VTIMEZONE
BEGIN:VEVENT
DTSTART;TZID=America/Los_Angeles:20270201T190000
DTEND;TZID=America/Los_Angeles:20270201T210000
DTSTAMP:20260420T100716
CREATED:20250522T030213Z
LAST-MODIFIED:20250522T030213Z
UID:10000352-1801508400-1801515600@serranopark.net
SUMMARY:Architecture Committee
DESCRIPTION:Architecture monthly committee meeting.
URL:https://serranopark.net/event/architecture-committee/2027-02-01/
LOCATION:CA
CATEGORIES:Community
END:VEVENT
BEGIN:VEVENT
DTSTART;TZID=America/Los_Angeles:20270204T100000
DTEND;TZID=America/Los_Angeles:20270204T120000
DTSTAMP:20260420T100716
CREATED:20250522T025956Z
LAST-MODIFIED:20250522T025956Z
UID:10000292-1801735200-1801742400@serranopark.net
SUMMARY:Landscape Committee
DESCRIPTION:
URL:https://serranopark.net/event/landscape-committee/2027-02-04/
LOCATION:Main Clubhouse\, 21180 Paseo Sombra\, Lake Forest\, CA\, 92630\, United States
END:VEVENT
BEGIN:VEVENT
DTSTART;TZID=America/Los_Angeles:20270218T183000
DTEND;TZID=America/Los_Angeles:20270218T183000
DTSTAMP:20260420T100716
CREATED:20260116T164904Z
LAST-MODIFIED:20260116T165242Z
UID:10000416-1802975400-1802975400@serranopark.net
SUMMARY:HOA Board Meeting
DESCRIPTION:
URL:https://serranopark.net/event/hoa-board-meeting-3/2027-02-18/
LOCATION:Main Clubhouse\, 21180 Paseo Sombra\, Lake Forest\, CA\, 92630\, United States
END:VEVENT
END:VCALENDAR