BEGIN:VCALENDAR
VERSION:2.0
PRODID:-//Serrano Park - ECPv6.15.20//NONSGML v1.0//EN
CALSCALE:GREGORIAN
METHOD:PUBLISH
X-WR-CALNAME:Serrano Park
X-ORIGINAL-URL:https://serranopark.net
X-WR-CALDESC:Events for Serrano Park
REFRESH-INTERVAL;VALUE=DURATION:PT1H
X-Robots-Tag:noindex
X-PUBLISHED-TTL:PT1H
BEGIN:VTIMEZONE
TZID:America/Los_Angeles
BEGIN:DAYLIGHT
TZOFFSETFROM:-0800
TZOFFSETTO:-0700
TZNAME:PDT
DTSTART:20240310T100000
END:DAYLIGHT
BEGIN:STANDARD
TZOFFSETFROM:-0700
TZOFFSETTO:-0800
TZNAME:PST
DTSTART:20241103T090000
END:STANDARD
BEGIN:DAYLIGHT
TZOFFSETFROM:-0800
TZOFFSETTO:-0700
TZNAME:PDT
DTSTART:20250309T100000
END:DAYLIGHT
BEGIN:STANDARD
TZOFFSETFROM:-0700
TZOFFSETTO:-0800
TZNAME:PST
DTSTART:20251102T090000
END:STANDARD
BEGIN:DAYLIGHT
TZOFFSETFROM:-0800
TZOFFSETTO:-0700
TZNAME:PDT
DTSTART:20260308T100000
END:DAYLIGHT
BEGIN:STANDARD
TZOFFSETFROM:-0700
TZOFFSETTO:-0800
TZNAME:PST
DTSTART:20261101T090000
END:STANDARD
END:VTIMEZONE
BEGIN:VEVENT
DTSTART;TZID=America/Los_Angeles:20251103T190000
DTEND;TZID=America/Los_Angeles:20251103T210000
DTSTAMP:20260422T032618
CREATED:20250522T030213Z
LAST-MODIFIED:20250522T030213Z
UID:10000337-1762196400-1762203600@serranopark.net
SUMMARY:Architecture Committee
DESCRIPTION:Architecture monthly committee meeting.
URL:https://serranopark.net/event/architecture-committee/2025-11-03/
LOCATION:CA
CATEGORIES:Community
END:VEVENT
BEGIN:VEVENT
DTSTART;TZID=America/Los_Angeles:20251106T100000
DTEND;TZID=America/Los_Angeles:20251106T120000
DTSTAMP:20260422T032618
CREATED:20250522T025956Z
LAST-MODIFIED:20250522T025956Z
UID:10000277-1762423200-1762430400@serranopark.net
SUMMARY:Landscape Committee
DESCRIPTION:
URL:https://serranopark.net/event/landscape-committee/2025-11-06/
LOCATION:Main Clubhouse\, 21180 Paseo Sombra\, Lake Forest\, CA\, 92630\, United States
END:VEVENT
BEGIN:VEVENT
DTSTART;TZID=America/Los_Angeles:20251113T190000
DTEND;TZID=America/Los_Angeles:20251113T210000
DTSTAMP:20260422T032618
CREATED:20250819T184507Z
LAST-MODIFIED:20250819T184507Z
UID:10000402-1763060400-1763067600@serranopark.net
SUMMARY:Book Club
DESCRIPTION:📚✨ Serrano Park Book Club ✨🍷Next Meeting: November 13th | 7–9 PM | Clubhouse \nDo you love books\, neighbors\, and a good glass of wine with snacks? Then this is the club for you! The Serrano Park Book Club meets every other month on the 2nd Thursday (unless otherwise updated) for an evening of lively discussion\, laughter\, and community connection. \n📖 Join our Facebook group to stay part of the conversation and share your love of reading.📲 Active members can also join our text thread for updates\, reminders\, and a little extra bookish fun. \nWhether you’d like to host a meeting\, help pick our next read\, or simply come to sip and chat\, all are welcome — and don’t forget to bring a friend! 🍷🧀 \n✨ Come for the books\, stay for the company. ✨ \n– Hosted by Tami Nowzaree
URL:https://serranopark.net/event/book-club-3/
LOCATION:CA
ORGANIZER;CN="Tami Nowzaree":MAILTO:tnowzaree@yahoo.com
END:VEVENT
END:VCALENDAR