BEGIN:VCALENDAR
VERSION:2.0
PRODID:-//Serrano Park - ECPv6.15.20//NONSGML v1.0//EN
CALSCALE:GREGORIAN
METHOD:PUBLISH
X-WR-CALNAME:Serrano Park
X-ORIGINAL-URL:https://serranopark.net
X-WR-CALDESC:Events for Serrano Park
REFRESH-INTERVAL;VALUE=DURATION:PT1H
X-Robots-Tag:noindex
X-PUBLISHED-TTL:PT1H
BEGIN:VTIMEZONE
TZID:America/Los_Angeles
BEGIN:DAYLIGHT
TZOFFSETFROM:-0800
TZOFFSETTO:-0700
TZNAME:PDT
DTSTART:20280312T100000
END:DAYLIGHT
BEGIN:STANDARD
TZOFFSETFROM:-0700
TZOFFSETTO:-0800
TZNAME:PST
DTSTART:20281105T090000
END:STANDARD
BEGIN:DAYLIGHT
TZOFFSETFROM:-0800
TZOFFSETTO:-0700
TZNAME:PDT
DTSTART:20290311T100000
END:DAYLIGHT
BEGIN:STANDARD
TZOFFSETFROM:-0700
TZOFFSETTO:-0800
TZNAME:PST
DTSTART:20291104T090000
END:STANDARD
BEGIN:DAYLIGHT
TZOFFSETFROM:-0800
TZOFFSETTO:-0700
TZNAME:PDT
DTSTART:20300310T100000
END:DAYLIGHT
BEGIN:STANDARD
TZOFFSETFROM:-0700
TZOFFSETTO:-0800
TZNAME:PST
DTSTART:20301103T090000
END:STANDARD
BEGIN:DAYLIGHT
TZOFFSETFROM:-0800
TZOFFSETTO:-0700
TZNAME:PDT
DTSTART:20310309T100000
END:DAYLIGHT
BEGIN:STANDARD
TZOFFSETFROM:-0700
TZOFFSETTO:-0800
TZNAME:PST
DTSTART:20311102T090000
END:STANDARD
END:VTIMEZONE
BEGIN:VEVENT
DTSTART;TZID=America/Los_Angeles:20291001T190000
DTEND;TZID=America/Los_Angeles:20291001T210000
DTSTAMP:20260420T122516
CREATED:20250522T030213Z
LAST-MODIFIED:20250522T030213Z
UID:10000384-1885575600-1885582800@serranopark.net
SUMMARY:Architecture Committee
DESCRIPTION:Architecture monthly committee meeting.
URL:https://serranopark.net/event/architecture-committee/2029-10-01/
LOCATION:CA
CATEGORIES:Community
END:VEVENT
BEGIN:VEVENT
DTSTART;TZID=America/Los_Angeles:20291004T100000
DTEND;TZID=America/Los_Angeles:20291004T120000
DTSTAMP:20260420T122516
CREATED:20250522T025956Z
LAST-MODIFIED:20250522T025956Z
UID:10000324-1885802400-1885809600@serranopark.net
SUMMARY:Landscape Committee
DESCRIPTION:
URL:https://serranopark.net/event/landscape-committee/2029-10-04/
LOCATION:Main Clubhouse\, 21180 Paseo Sombra\, Lake Forest\, CA\, 92630\, United States
END:VEVENT
BEGIN:VEVENT
DTSTART;TZID=America/Los_Angeles:20291101T100000
DTEND;TZID=America/Los_Angeles:20291101T120000
DTSTAMP:20260420T122516
CREATED:20250522T025956Z
LAST-MODIFIED:20250522T025956Z
UID:10000325-1888221600-1888228800@serranopark.net
SUMMARY:Landscape Committee
DESCRIPTION:
URL:https://serranopark.net/event/landscape-committee/2029-11-01/
LOCATION:Main Clubhouse\, 21180 Paseo Sombra\, Lake Forest\, CA\, 92630\, United States
END:VEVENT
BEGIN:VEVENT
DTSTART;TZID=America/Los_Angeles:20291105T190000
DTEND;TZID=America/Los_Angeles:20291105T210000
DTSTAMP:20260420T122516
CREATED:20250522T030213Z
LAST-MODIFIED:20250522T030213Z
UID:10000385-1888599600-1888606800@serranopark.net
SUMMARY:Architecture Committee
DESCRIPTION:Architecture monthly committee meeting.
URL:https://serranopark.net/event/architecture-committee/2029-11-05/
LOCATION:CA
CATEGORIES:Community
END:VEVENT
BEGIN:VEVENT
DTSTART;TZID=America/Los_Angeles:20291203T190000
DTEND;TZID=America/Los_Angeles:20291203T210000
DTSTAMP:20260420T122516
CREATED:20250522T030213Z
LAST-MODIFIED:20250522T030213Z
UID:10000386-1891018800-1891026000@serranopark.net
SUMMARY:Architecture Committee
DESCRIPTION:Architecture monthly committee meeting.
URL:https://serranopark.net/event/architecture-committee/2029-12-03/
LOCATION:CA
CATEGORIES:Community
END:VEVENT
BEGIN:VEVENT
DTSTART;TZID=America/Los_Angeles:20291206T100000
DTEND;TZID=America/Los_Angeles:20291206T120000
DTSTAMP:20260420T122516
CREATED:20250522T025956Z
LAST-MODIFIED:20250522T025956Z
UID:10000326-1891245600-1891252800@serranopark.net
SUMMARY:Landscape Committee
DESCRIPTION:
URL:https://serranopark.net/event/landscape-committee/2029-12-06/
LOCATION:Main Clubhouse\, 21180 Paseo Sombra\, Lake Forest\, CA\, 92630\, United States
END:VEVENT
BEGIN:VEVENT
DTSTART;TZID=America/Los_Angeles:20300103T100000
DTEND;TZID=America/Los_Angeles:20300103T120000
DTSTAMP:20260420T122516
CREATED:20250522T025956Z
LAST-MODIFIED:20250522T025956Z
UID:10000327-1893664800-1893672000@serranopark.net
SUMMARY:Landscape Committee
DESCRIPTION:
URL:https://serranopark.net/event/landscape-committee/2030-01-03/
LOCATION:Main Clubhouse\, 21180 Paseo Sombra\, Lake Forest\, CA\, 92630\, United States
END:VEVENT
BEGIN:VEVENT
DTSTART;TZID=America/Los_Angeles:20300107T190000
DTEND;TZID=America/Los_Angeles:20300107T210000
DTSTAMP:20260420T122516
CREATED:20250522T030213Z
LAST-MODIFIED:20250522T030213Z
UID:10000387-1894042800-1894050000@serranopark.net
SUMMARY:Architecture Committee
DESCRIPTION:Architecture monthly committee meeting.
URL:https://serranopark.net/event/architecture-committee/2030-01-07/
LOCATION:CA
CATEGORIES:Community
END:VEVENT
BEGIN:VEVENT
DTSTART;TZID=America/Los_Angeles:20300204T190000
DTEND;TZID=America/Los_Angeles:20300204T210000
DTSTAMP:20260420T122516
CREATED:20250522T030213Z
LAST-MODIFIED:20250522T030213Z
UID:10000388-1896462000-1896469200@serranopark.net
SUMMARY:Architecture Committee
DESCRIPTION:Architecture monthly committee meeting.
URL:https://serranopark.net/event/architecture-committee/2030-02-04/
LOCATION:CA
CATEGORIES:Community
END:VEVENT
BEGIN:VEVENT
DTSTART;TZID=America/Los_Angeles:20300207T100000
DTEND;TZID=America/Los_Angeles:20300207T120000
DTSTAMP:20260420T122516
CREATED:20250522T025956Z
LAST-MODIFIED:20250522T025956Z
UID:10000328-1896688800-1896696000@serranopark.net
SUMMARY:Landscape Committee
DESCRIPTION:
URL:https://serranopark.net/event/landscape-committee/2030-02-07/
LOCATION:Main Clubhouse\, 21180 Paseo Sombra\, Lake Forest\, CA\, 92630\, United States
END:VEVENT
BEGIN:VEVENT
DTSTART;TZID=America/Los_Angeles:20300304T190000
DTEND;TZID=America/Los_Angeles:20300304T210000
DTSTAMP:20260420T122516
CREATED:20250522T030213Z
LAST-MODIFIED:20250522T030213Z
UID:10000389-1898881200-1898888400@serranopark.net
SUMMARY:Architecture Committee
DESCRIPTION:Architecture monthly committee meeting.
URL:https://serranopark.net/event/architecture-committee/2030-03-04/
LOCATION:CA
CATEGORIES:Community
END:VEVENT
BEGIN:VEVENT
DTSTART;TZID=America/Los_Angeles:20300307T100000
DTEND;TZID=America/Los_Angeles:20300307T120000
DTSTAMP:20260420T122516
CREATED:20250522T025956Z
LAST-MODIFIED:20250522T025956Z
UID:10000329-1899108000-1899115200@serranopark.net
SUMMARY:Landscape Committee
DESCRIPTION:
URL:https://serranopark.net/event/landscape-committee/2030-03-07/
LOCATION:Main Clubhouse\, 21180 Paseo Sombra\, Lake Forest\, CA\, 92630\, United States
END:VEVENT
BEGIN:VEVENT
DTSTART;TZID=America/Los_Angeles:20300401T190000
DTEND;TZID=America/Los_Angeles:20300401T210000
DTSTAMP:20260420T122517
CREATED:20250522T030213Z
LAST-MODIFIED:20250522T030213Z
UID:10000390-1901300400-1901307600@serranopark.net
SUMMARY:Architecture Committee
DESCRIPTION:Architecture monthly committee meeting.
URL:https://serranopark.net/event/architecture-committee/2030-04-01/
LOCATION:CA
CATEGORIES:Community
END:VEVENT
BEGIN:VEVENT
DTSTART;TZID=America/Los_Angeles:20300404T100000
DTEND;TZID=America/Los_Angeles:20300404T120000
DTSTAMP:20260420T122517
CREATED:20250522T025956Z
LAST-MODIFIED:20250522T025956Z
UID:10000330-1901527200-1901534400@serranopark.net
SUMMARY:Landscape Committee
DESCRIPTION:
URL:https://serranopark.net/event/landscape-committee/2030-04-04/
LOCATION:Main Clubhouse\, 21180 Paseo Sombra\, Lake Forest\, CA\, 92630\, United States
END:VEVENT
BEGIN:VEVENT
DTSTART;TZID=America/Los_Angeles:20300502T100000
DTEND;TZID=America/Los_Angeles:20300502T120000
DTSTAMP:20260420T122517
CREATED:20250522T025956Z
LAST-MODIFIED:20250522T025956Z
UID:10000331-1903946400-1903953600@serranopark.net
SUMMARY:Landscape Committee
DESCRIPTION:
URL:https://serranopark.net/event/landscape-committee/2030-05-02/
LOCATION:Main Clubhouse\, 21180 Paseo Sombra\, Lake Forest\, CA\, 92630\, United States
END:VEVENT
BEGIN:VEVENT
DTSTART;TZID=America/Los_Angeles:20300506T190000
DTEND;TZID=America/Los_Angeles:20300506T210000
DTSTAMP:20260420T122517
CREATED:20250522T030213Z
LAST-MODIFIED:20250522T030213Z
UID:10000391-1904324400-1904331600@serranopark.net
SUMMARY:Architecture Committee
DESCRIPTION:Architecture monthly committee meeting.
URL:https://serranopark.net/event/architecture-committee/2030-05-06/
LOCATION:CA
CATEGORIES:Community
END:VEVENT
END:VCALENDAR