BEGIN:VCALENDAR
VERSION:2.0
PRODID:-//Serrano Park - ECPv6.15.20//NONSGML v1.0//EN
CALSCALE:GREGORIAN
METHOD:PUBLISH
X-WR-CALNAME:Serrano Park
X-ORIGINAL-URL:https://serranopark.net
X-WR-CALDESC:Events for Serrano Park
REFRESH-INTERVAL;VALUE=DURATION:PT1H
X-Robots-Tag:noindex
X-PUBLISHED-TTL:PT1H
BEGIN:VTIMEZONE
TZID:America/Los_Angeles
BEGIN:DAYLIGHT
TZOFFSETFROM:-0800
TZOFFSETTO:-0700
TZNAME:PDT
DTSTART:20250309T100000
END:DAYLIGHT
BEGIN:STANDARD
TZOFFSETFROM:-0700
TZOFFSETTO:-0800
TZNAME:PST
DTSTART:20251102T090000
END:STANDARD
BEGIN:DAYLIGHT
TZOFFSETFROM:-0800
TZOFFSETTO:-0700
TZNAME:PDT
DTSTART:20260308T100000
END:DAYLIGHT
BEGIN:STANDARD
TZOFFSETFROM:-0700
TZOFFSETTO:-0800
TZNAME:PST
DTSTART:20261101T090000
END:STANDARD
BEGIN:DAYLIGHT
TZOFFSETFROM:-0800
TZOFFSETTO:-0700
TZNAME:PDT
DTSTART:20270314T100000
END:DAYLIGHT
BEGIN:STANDARD
TZOFFSETFROM:-0700
TZOFFSETTO:-0800
TZNAME:PST
DTSTART:20271107T090000
END:STANDARD
BEGIN:DAYLIGHT
TZOFFSETFROM:-0800
TZOFFSETTO:-0700
TZNAME:PDT
DTSTART:20280312T100000
END:DAYLIGHT
BEGIN:STANDARD
TZOFFSETFROM:-0700
TZOFFSETTO:-0800
TZNAME:PST
DTSTART:20281105T090000
END:STANDARD
END:VTIMEZONE
BEGIN:VEVENT
DTSTART;TZID=America/Los_Angeles:20260903T100000
DTEND;TZID=America/Los_Angeles:20260903T120000
DTSTAMP:20260419T210353
CREATED:20250522T025956Z
LAST-MODIFIED:20250522T025956Z
UID:10000287-1788429600-1788436800@serranopark.net
SUMMARY:Landscape Committee
DESCRIPTION:
URL:https://serranopark.net/event/landscape-committee/2026-09-03/
LOCATION:Main Clubhouse\, 21180 Paseo Sombra\, Lake Forest\, CA\, 92630\, United States
END:VEVENT
BEGIN:VEVENT
DTSTART;TZID=America/Los_Angeles:20260907T190000
DTEND;TZID=America/Los_Angeles:20260907T210000
DTSTAMP:20260419T210353
CREATED:20250522T030213Z
LAST-MODIFIED:20250522T030213Z
UID:10000347-1788807600-1788814800@serranopark.net
SUMMARY:Architecture Committee
DESCRIPTION:Architecture monthly committee meeting.
URL:https://serranopark.net/event/architecture-committee/2026-09-07/
LOCATION:CA
CATEGORIES:Community
END:VEVENT
BEGIN:VEVENT
DTSTART;TZID=America/Los_Angeles:20260917T183000
DTEND;TZID=America/Los_Angeles:20260917T183000
DTSTAMP:20260419T210353
CREATED:20260116T164904Z
LAST-MODIFIED:20260116T165242Z
UID:10000411-1789669800-1789669800@serranopark.net
SUMMARY:HOA Board Meeting
DESCRIPTION:
URL:https://serranopark.net/event/hoa-board-meeting-3/2026-09-17/
LOCATION:Main Clubhouse\, 21180 Paseo Sombra\, Lake Forest\, CA\, 92630\, United States
END:VEVENT
BEGIN:VEVENT
DTSTART;TZID=America/Los_Angeles:20261001T100000
DTEND;TZID=America/Los_Angeles:20261001T120000
DTSTAMP:20260419T210353
CREATED:20250522T025956Z
LAST-MODIFIED:20250522T025956Z
UID:10000288-1790848800-1790856000@serranopark.net
SUMMARY:Landscape Committee
DESCRIPTION:
URL:https://serranopark.net/event/landscape-committee/2026-10-01/
LOCATION:Main Clubhouse\, 21180 Paseo Sombra\, Lake Forest\, CA\, 92630\, United States
END:VEVENT
BEGIN:VEVENT
DTSTART;TZID=America/Los_Angeles:20261005T190000
DTEND;TZID=America/Los_Angeles:20261005T210000
DTSTAMP:20260419T210353
CREATED:20250522T030213Z
LAST-MODIFIED:20250522T030213Z
UID:10000348-1791226800-1791234000@serranopark.net
SUMMARY:Architecture Committee
DESCRIPTION:Architecture monthly committee meeting.
URL:https://serranopark.net/event/architecture-committee/2026-10-05/
LOCATION:CA
CATEGORIES:Community
END:VEVENT
BEGIN:VEVENT
DTSTART;TZID=America/Los_Angeles:20261015T183000
DTEND;TZID=America/Los_Angeles:20261015T183000
DTSTAMP:20260419T210353
CREATED:20260116T164904Z
LAST-MODIFIED:20260116T165242Z
UID:10000412-1792089000-1792089000@serranopark.net
SUMMARY:HOA Board Meeting
DESCRIPTION:
URL:https://serranopark.net/event/hoa-board-meeting-3/2026-10-15/
LOCATION:Main Clubhouse\, 21180 Paseo Sombra\, Lake Forest\, CA\, 92630\, United States
END:VEVENT
BEGIN:VEVENT
DTSTART;TZID=America/Los_Angeles:20261102T190000
DTEND;TZID=America/Los_Angeles:20261102T210000
DTSTAMP:20260419T210353
CREATED:20250522T030213Z
LAST-MODIFIED:20250522T030213Z
UID:10000349-1793646000-1793653200@serranopark.net
SUMMARY:Architecture Committee
DESCRIPTION:Architecture monthly committee meeting.
URL:https://serranopark.net/event/architecture-committee/2026-11-02/
LOCATION:CA
CATEGORIES:Community
END:VEVENT
BEGIN:VEVENT
DTSTART;TZID=America/Los_Angeles:20261105T100000
DTEND;TZID=America/Los_Angeles:20261105T120000
DTSTAMP:20260419T210353
CREATED:20250522T025956Z
LAST-MODIFIED:20250522T025956Z
UID:10000289-1793872800-1793880000@serranopark.net
SUMMARY:Landscape Committee
DESCRIPTION:
URL:https://serranopark.net/event/landscape-committee/2026-11-05/
LOCATION:Main Clubhouse\, 21180 Paseo Sombra\, Lake Forest\, CA\, 92630\, United States
END:VEVENT
BEGIN:VEVENT
DTSTART;TZID=America/Los_Angeles:20261119T183000
DTEND;TZID=America/Los_Angeles:20261119T183000
DTSTAMP:20260419T210353
CREATED:20260116T164904Z
LAST-MODIFIED:20260116T165242Z
UID:10000413-1795113000-1795113000@serranopark.net
SUMMARY:HOA Board Meeting
DESCRIPTION:
URL:https://serranopark.net/event/hoa-board-meeting-3/2026-11-19/
LOCATION:Main Clubhouse\, 21180 Paseo Sombra\, Lake Forest\, CA\, 92630\, United States
END:VEVENT
BEGIN:VEVENT
DTSTART;TZID=America/Los_Angeles:20261203T100000
DTEND;TZID=America/Los_Angeles:20261203T120000
DTSTAMP:20260419T210353
CREATED:20250522T025956Z
LAST-MODIFIED:20250522T025956Z
UID:10000290-1796292000-1796299200@serranopark.net
SUMMARY:Landscape Committee
DESCRIPTION:
URL:https://serranopark.net/event/landscape-committee/2026-12-03/
LOCATION:Main Clubhouse\, 21180 Paseo Sombra\, Lake Forest\, CA\, 92630\, United States
END:VEVENT
BEGIN:VEVENT
DTSTART;TZID=America/Los_Angeles:20261207T190000
DTEND;TZID=America/Los_Angeles:20261207T210000
DTSTAMP:20260419T210353
CREATED:20250522T030213Z
LAST-MODIFIED:20250522T030213Z
UID:10000350-1796670000-1796677200@serranopark.net
SUMMARY:Architecture Committee
DESCRIPTION:Architecture monthly committee meeting.
URL:https://serranopark.net/event/architecture-committee/2026-12-07/
LOCATION:CA
CATEGORIES:Community
END:VEVENT
BEGIN:VEVENT
DTSTART;TZID=America/Los_Angeles:20261217T183000
DTEND;TZID=America/Los_Angeles:20261217T183000
DTSTAMP:20260419T210353
CREATED:20260116T164904Z
LAST-MODIFIED:20260116T165242Z
UID:10000414-1797532200-1797532200@serranopark.net
SUMMARY:HOA Board Meeting
DESCRIPTION:
URL:https://serranopark.net/event/hoa-board-meeting-3/2026-12-17/
LOCATION:Main Clubhouse\, 21180 Paseo Sombra\, Lake Forest\, CA\, 92630\, United States
END:VEVENT
BEGIN:VEVENT
DTSTART;TZID=America/Los_Angeles:20270104T190000
DTEND;TZID=America/Los_Angeles:20270104T210000
DTSTAMP:20260419T210353
CREATED:20250522T030213Z
LAST-MODIFIED:20250522T030213Z
UID:10000351-1799089200-1799096400@serranopark.net
SUMMARY:Architecture Committee
DESCRIPTION:Architecture monthly committee meeting.
URL:https://serranopark.net/event/architecture-committee/2027-01-04/
LOCATION:CA
CATEGORIES:Community
END:VEVENT
BEGIN:VEVENT
DTSTART;TZID=America/Los_Angeles:20270107T100000
DTEND;TZID=America/Los_Angeles:20270107T120000
DTSTAMP:20260419T210353
CREATED:20250522T025956Z
LAST-MODIFIED:20250522T025956Z
UID:10000291-1799316000-1799323200@serranopark.net
SUMMARY:Landscape Committee
DESCRIPTION:
URL:https://serranopark.net/event/landscape-committee/2027-01-07/
LOCATION:Main Clubhouse\, 21180 Paseo Sombra\, Lake Forest\, CA\, 92630\, United States
END:VEVENT
BEGIN:VEVENT
DTSTART;TZID=America/Los_Angeles:20270121T183000
DTEND;TZID=America/Los_Angeles:20270121T183000
DTSTAMP:20260419T210353
CREATED:20260116T164904Z
LAST-MODIFIED:20260116T165242Z
UID:10000415-1800556200-1800556200@serranopark.net
SUMMARY:HOA Board Meeting
DESCRIPTION:
URL:https://serranopark.net/event/hoa-board-meeting-3/2027-01-21/
LOCATION:Main Clubhouse\, 21180 Paseo Sombra\, Lake Forest\, CA\, 92630\, United States
END:VEVENT
BEGIN:VEVENT
DTSTART;TZID=America/Los_Angeles:20270201T190000
DTEND;TZID=America/Los_Angeles:20270201T210000
DTSTAMP:20260419T210353
CREATED:20250522T030213Z
LAST-MODIFIED:20250522T030213Z
UID:10000352-1801508400-1801515600@serranopark.net
SUMMARY:Architecture Committee
DESCRIPTION:Architecture monthly committee meeting.
URL:https://serranopark.net/event/architecture-committee/2027-02-01/
LOCATION:CA
CATEGORIES:Community
END:VEVENT
BEGIN:VEVENT
DTSTART;TZID=America/Los_Angeles:20270204T100000
DTEND;TZID=America/Los_Angeles:20270204T120000
DTSTAMP:20260419T210353
CREATED:20250522T025956Z
LAST-MODIFIED:20250522T025956Z
UID:10000292-1801735200-1801742400@serranopark.net
SUMMARY:Landscape Committee
DESCRIPTION:
URL:https://serranopark.net/event/landscape-committee/2027-02-04/
LOCATION:Main Clubhouse\, 21180 Paseo Sombra\, Lake Forest\, CA\, 92630\, United States
END:VEVENT
BEGIN:VEVENT
DTSTART;TZID=America/Los_Angeles:20270218T183000
DTEND;TZID=America/Los_Angeles:20270218T183000
DTSTAMP:20260419T210353
CREATED:20260116T164904Z
LAST-MODIFIED:20260116T165242Z
UID:10000416-1802975400-1802975400@serranopark.net
SUMMARY:HOA Board Meeting
DESCRIPTION:
URL:https://serranopark.net/event/hoa-board-meeting-3/2027-02-18/
LOCATION:Main Clubhouse\, 21180 Paseo Sombra\, Lake Forest\, CA\, 92630\, United States
END:VEVENT
BEGIN:VEVENT
DTSTART;TZID=America/Los_Angeles:20270301T190000
DTEND;TZID=America/Los_Angeles:20270301T210000
DTSTAMP:20260419T210353
CREATED:20250522T030213Z
LAST-MODIFIED:20250522T030213Z
UID:10000353-1803927600-1803934800@serranopark.net
SUMMARY:Architecture Committee
DESCRIPTION:Architecture monthly committee meeting.
URL:https://serranopark.net/event/architecture-committee/2027-03-01/
LOCATION:CA
CATEGORIES:Community
END:VEVENT
BEGIN:VEVENT
DTSTART;TZID=America/Los_Angeles:20270304T100000
DTEND;TZID=America/Los_Angeles:20270304T120000
DTSTAMP:20260419T210353
CREATED:20250522T025956Z
LAST-MODIFIED:20250522T025956Z
UID:10000293-1804154400-1804161600@serranopark.net
SUMMARY:Landscape Committee
DESCRIPTION:
URL:https://serranopark.net/event/landscape-committee/2027-03-04/
LOCATION:Main Clubhouse\, 21180 Paseo Sombra\, Lake Forest\, CA\, 92630\, United States
END:VEVENT
BEGIN:VEVENT
DTSTART;TZID=America/Los_Angeles:20270318T183000
DTEND;TZID=America/Los_Angeles:20270318T183000
DTSTAMP:20260419T210353
CREATED:20260116T164904Z
LAST-MODIFIED:20260116T165242Z
UID:10000417-1805394600-1805394600@serranopark.net
SUMMARY:HOA Board Meeting
DESCRIPTION:
URL:https://serranopark.net/event/hoa-board-meeting-3/2027-03-18/
LOCATION:Main Clubhouse\, 21180 Paseo Sombra\, Lake Forest\, CA\, 92630\, United States
END:VEVENT
BEGIN:VEVENT
DTSTART;TZID=America/Los_Angeles:20270401T100000
DTEND;TZID=America/Los_Angeles:20270401T120000
DTSTAMP:20260419T210353
CREATED:20250522T025956Z
LAST-MODIFIED:20250522T025956Z
UID:10000294-1806573600-1806580800@serranopark.net
SUMMARY:Landscape Committee
DESCRIPTION:
URL:https://serranopark.net/event/landscape-committee/2027-04-01/
LOCATION:Main Clubhouse\, 21180 Paseo Sombra\, Lake Forest\, CA\, 92630\, United States
END:VEVENT
BEGIN:VEVENT
DTSTART;TZID=America/Los_Angeles:20270405T190000
DTEND;TZID=America/Los_Angeles:20270405T210000
DTSTAMP:20260419T210353
CREATED:20250522T030213Z
LAST-MODIFIED:20250522T030213Z
UID:10000354-1806951600-1806958800@serranopark.net
SUMMARY:Architecture Committee
DESCRIPTION:Architecture monthly committee meeting.
URL:https://serranopark.net/event/architecture-committee/2027-04-05/
LOCATION:CA
CATEGORIES:Community
END:VEVENT
BEGIN:VEVENT
DTSTART;TZID=America/Los_Angeles:20270415T183000
DTEND;TZID=America/Los_Angeles:20270415T183000
DTSTAMP:20260419T210353
CREATED:20260116T164904Z
LAST-MODIFIED:20260116T165242Z
UID:10000418-1807813800-1807813800@serranopark.net
SUMMARY:HOA Board Meeting
DESCRIPTION:
URL:https://serranopark.net/event/hoa-board-meeting-3/2027-04-15/
LOCATION:Main Clubhouse\, 21180 Paseo Sombra\, Lake Forest\, CA\, 92630\, United States
END:VEVENT
BEGIN:VEVENT
DTSTART;TZID=America/Los_Angeles:20270503T190000
DTEND;TZID=America/Los_Angeles:20270503T210000
DTSTAMP:20260419T210353
CREATED:20250522T030213Z
LAST-MODIFIED:20250522T030213Z
UID:10000355-1809370800-1809378000@serranopark.net
SUMMARY:Architecture Committee
DESCRIPTION:Architecture monthly committee meeting.
URL:https://serranopark.net/event/architecture-committee/2027-05-03/
LOCATION:CA
CATEGORIES:Community
END:VEVENT
BEGIN:VEVENT
DTSTART;TZID=America/Los_Angeles:20270506T100000
DTEND;TZID=America/Los_Angeles:20270506T120000
DTSTAMP:20260419T210353
CREATED:20250522T025956Z
LAST-MODIFIED:20250522T025956Z
UID:10000295-1809597600-1809604800@serranopark.net
SUMMARY:Landscape Committee
DESCRIPTION:
URL:https://serranopark.net/event/landscape-committee/2027-05-06/
LOCATION:Main Clubhouse\, 21180 Paseo Sombra\, Lake Forest\, CA\, 92630\, United States
END:VEVENT
BEGIN:VEVENT
DTSTART;TZID=America/Los_Angeles:20270520T183000
DTEND;TZID=America/Los_Angeles:20270520T183000
DTSTAMP:20260419T210353
CREATED:20260116T164904Z
LAST-MODIFIED:20260116T165242Z
UID:10000419-1810837800-1810837800@serranopark.net
SUMMARY:HOA Board Meeting
DESCRIPTION:
URL:https://serranopark.net/event/hoa-board-meeting-3/2027-05-20/
LOCATION:Main Clubhouse\, 21180 Paseo Sombra\, Lake Forest\, CA\, 92630\, United States
END:VEVENT
BEGIN:VEVENT
DTSTART;TZID=America/Los_Angeles:20270603T100000
DTEND;TZID=America/Los_Angeles:20270603T120000
DTSTAMP:20260419T210353
CREATED:20250522T025956Z
LAST-MODIFIED:20250522T025956Z
UID:10000296-1812016800-1812024000@serranopark.net
SUMMARY:Landscape Committee
DESCRIPTION:
URL:https://serranopark.net/event/landscape-committee/2027-06-03/
LOCATION:Main Clubhouse\, 21180 Paseo Sombra\, Lake Forest\, CA\, 92630\, United States
END:VEVENT
BEGIN:VEVENT
DTSTART;TZID=America/Los_Angeles:20270607T190000
DTEND;TZID=America/Los_Angeles:20270607T210000
DTSTAMP:20260419T210353
CREATED:20250522T030213Z
LAST-MODIFIED:20250522T030213Z
UID:10000356-1812394800-1812402000@serranopark.net
SUMMARY:Architecture Committee
DESCRIPTION:Architecture monthly committee meeting.
URL:https://serranopark.net/event/architecture-committee/2027-06-07/
LOCATION:CA
CATEGORIES:Community
END:VEVENT
BEGIN:VEVENT
DTSTART;TZID=America/Los_Angeles:20270617T183000
DTEND;TZID=America/Los_Angeles:20270617T183000
DTSTAMP:20260419T210353
CREATED:20260116T164904Z
LAST-MODIFIED:20260116T165242Z
UID:10000420-1813257000-1813257000@serranopark.net
SUMMARY:HOA Board Meeting
DESCRIPTION:
URL:https://serranopark.net/event/hoa-board-meeting-3/2027-06-17/
LOCATION:Main Clubhouse\, 21180 Paseo Sombra\, Lake Forest\, CA\, 92630\, United States
END:VEVENT
END:VCALENDAR