BEGIN:VCALENDAR
VERSION:2.0
PRODID:-//Serrano Park - ECPv6.15.20//NONSGML v1.0//EN
CALSCALE:GREGORIAN
METHOD:PUBLISH
X-ORIGINAL-URL:https://serranopark.net
X-WR-CALDESC:Events for Serrano Park
REFRESH-INTERVAL;VALUE=DURATION:PT1H
X-Robots-Tag:noindex
X-PUBLISHED-TTL:PT1H
BEGIN:VTIMEZONE
TZID:America/Los_Angeles
BEGIN:DAYLIGHT
TZOFFSETFROM:-0800
TZOFFSETTO:-0700
TZNAME:PDT
DTSTART:20240310T100000
END:DAYLIGHT
BEGIN:STANDARD
TZOFFSETFROM:-0700
TZOFFSETTO:-0800
TZNAME:PST
DTSTART:20241103T090000
END:STANDARD
BEGIN:DAYLIGHT
TZOFFSETFROM:-0800
TZOFFSETTO:-0700
TZNAME:PDT
DTSTART:20250309T100000
END:DAYLIGHT
BEGIN:STANDARD
TZOFFSETFROM:-0700
TZOFFSETTO:-0800
TZNAME:PST
DTSTART:20251102T090000
END:STANDARD
BEGIN:DAYLIGHT
TZOFFSETFROM:-0800
TZOFFSETTO:-0700
TZNAME:PDT
DTSTART:20260308T100000
END:DAYLIGHT
BEGIN:STANDARD
TZOFFSETFROM:-0700
TZOFFSETTO:-0800
TZNAME:PST
DTSTART:20261101T090000
END:STANDARD
END:VTIMEZONE
BEGIN:VEVENT
DTSTART;TZID=America/Los_Angeles:20250707T190000
DTEND;TZID=America/Los_Angeles:20250707T210000
DTSTAMP:20260419T215632
CREATED:20250522T030213Z
LAST-MODIFIED:20250522T030213Z
UID:10000333-1751914800-1751922000@serranopark.net
SUMMARY:Architecture Committee
DESCRIPTION:Architecture monthly committee meeting.
URL:https://serranopark.net/event/architecture-committee/2025-07-07/
CATEGORIES:Community
END:VEVENT
BEGIN:VEVENT
DTSTART;TZID=America/Los_Angeles:20250608T160000
DTEND;TZID=America/Los_Angeles:20250608T223000
DTSTAMP:20260419T215632
CREATED:20250522T025603Z
LAST-MODIFIED:20250530T155506Z
UID:10000271-1749398400-1749421800@serranopark.net
SUMMARY:Welcome Summer! Live music by the pool
DESCRIPTION:We are kicking off the summer with a little music!  Come to the clubhouse and front pool area on Sunday\, June 8th\, for some songs\, snacks\, and time with neighbors!   Our very own Don Covel will be performing with Judi Glass\, putting on some harmonies and singing a few songs of her own! \nBring your own happy hour fare\, picnic dinner\, or your BBQ for the grill.  Some snacks and drinks will be provided\, but feel free to bring some appetizers to share with others!  We will set up a table and have paper products available as well.\n 
URL:https://serranopark.net/event/poolside-music/
LOCATION:Main Clubhouse\, 21180 Paseo Sombra\, Lake Forest\, CA\, 92630\, United States
CATEGORIES:Community
END:VEVENT
BEGIN:VEVENT
DTSTART;TZID=America/Los_Angeles:20250602T190000
DTEND;TZID=America/Los_Angeles:20250602T210000
DTSTAMP:20260419T215632
CREATED:20250522T030213Z
LAST-MODIFIED:20250522T030213Z
UID:10000332-1748890800-1748898000@serranopark.net
SUMMARY:Architecture Committee
DESCRIPTION:Architecture monthly committee meeting.
URL:https://serranopark.net/event/architecture-committee/2025-06-02/
CATEGORIES:Community
END:VEVENT
END:VCALENDAR